Workbook

Sheet Ansicht - Vergleich
C2: Vergleich Krankenvollversicherung für Ärzte
C3: COMFORT-MED und PREMIUM-MED
C5: Bitte wählen Sie eine Gesellschaft aus und tragen das Eintrittsalter ein.
C8: Gesellschaft - Tarif 1: | D8: Continentale - PREMIUM-MED + SP1 | G8: =HLOOKUP(D8,Leistungsaussagen!A1:AE2,2,FALSE) -> 3
C9: Gesellschaft - Tarif 2: | D9: Allianz - Ärzte Best 100 | G9: =HLOOKUP(D9,Leistungsaussagen!A1:AE2,2,FALSE) -> 5
C11: Eintrittsalter: | D11: 35
C12: (Bis Alter 55)
C14: Gesellschaft - Tarif | D14: =D8 -> Continentale - PREMIUM-MED + SP1 | E14: =D9 -> Allianz - Ärzte Best 100
C16: Ambulante Leistungen
C17: =Leistungsaussagen!A5 -> Gebührenordnung ambulant | D17: =VLOOKUP(C17,Leistungsaussagen!$A$1:$AE$39,$G$8,FALSE) -> auch über die Höchstsätze GOÄ | E17: =VLOOKUP(C17,Leistungsaussagen!$A$1:$AE$39,$G$9,FALSE) -> auch über die Höchstsätze GOÄ
C18: =Leistungsaussagen!A6 -> Ärztliche Leistungen | D18: =VLOOKUP(C18,Leistungsaussagen!$A$1:$AE$39,$G$8,FALSE) -> 1 | E18: =VLOOKUP(C18,Leistungsaussagen!$A$1:$AE$39,$G$9,FALSE) -> 1
C19: =Leistungsaussagen!A7 -> Heilpraktiker bis Höchstsätze GebüH | D19: =VLOOKUP(C19,Leistungsaussagen!$A$1:$AE$39,$G$8,FALSE) -> 1 | E19: =VLOOKUP(C19,Leistungsaussagen!$A$1:$AE$39,$G$9,FALSE) -> nein
C20: =Leistungsaussagen!A8 -> Psychotherapie (Sitzungen p.a.) | D20: =VLOOKUP(C20,Leistungsaussagen!$A$1:$AE$39,$G$8,FALSE) -> 100 % für 1. - 30. Sitzung, 80 % ab 31. Sitzung | E20: =VLOOKUP(C20,Leistungsaussagen!$A$1:$AE$39,$G$9,FALSE) -> 100 % für 1. - 30. Sitzung, 70 % ab 31. Sitzung
C21: =Leistungsaussagen!A9 -> Heilmittel | D21: =VLOOKUP(C21,Leistungsaussagen!$A$1:$AE$39,$G$8,FALSE) -> 1 | E21: =VLOOKUP(C21,Leistungsaussagen!$A$1:$AE$39,$G$9,FALSE) -> 100 % nach eigenem Leistungsverzeichnis
C22: =Leistungsaussagen!A10 -> Vorsorgeuntersuchungen | D22: =VLOOKUP(C22,Leistungsaussagen!$A$1:$AE$39,$G$8,FALSE) -> 100 % nach gesetzl. eingeführten Programmen, keine Altersgrenzen und ohne zeitliche Einschränkung; darüber hinaus bis max. 500 € | E22: =VLOOKUP(C22,Leistungsaussagen!$A$1:$AE$39,$G$9,FALSE) -> 100 % nach gesetzl. eingeführten Programmen, keine Altersbeschränkung
C23: =Leistungsaussagen!A11 -> Standard-, Reise- und berufsbedingte Impfungen | D23: =VLOOKUP(C23,Leistungsaussagen!$A$1:$AE$39,$G$8,FALSE) -> ja | E23: =VLOOKUP(C23,Leistungsaussagen!$A$1:$AE$39,$G$9,FALSE) -> ja, bei berufsbedingten Impfungen lediglich gegen Hepatitis B
C24: =Leistungsaussagen!A12 -> Hilfsmittel | D24: =VLOOKUP(C24,Leistungsaussagen!$A$1:$AE$39,$G$8,FALSE) -> 100 %; max. 1.500 € p.a. für Hörgeräte je Ohr; ab 1.000 € RB Kostenvoranschlag erforderlich, sonst 80 % für 1.000 € übersteigenden Teil | E24: =VLOOKUP(C24,Leistungsaussagen!$A$1:$AE$39,$G$9,FALSE) -> 100 % nach Hilfsmittelkatalog; bestimmte Hilfsmittel sind über den VR zu beziehen, ansonsten 80 %, z. T. Höchstbeträge
C25: =Leistungsaussagen!A13 -> Brillen / Kontaktlinsen | D25: =VLOOKUP(C25,Leistungsaussagen!$A$1:$AE$39,$G$8,FALSE) -> 100 %, max. 400 € alle 2 KJ | E25: =VLOOKUP(C25,Leistungsaussagen!$A$1:$AE$39,$G$9,FALSE) -> 100 %, max. 400 € alle 2 KJ
C26: =Leistungsaussagen!A14 -> Digitale Gesundheitsanwendungen (DiGa) | D26: =VLOOKUP(C26,Leistungsaussagen!$A$1:$AE$39,$G$8,FALSE) -> 100 % für verordnete DiGa, die im Verzeichnis des BfArM aufgeführt sind und 80 %, max. 1.000 € p.a. für darüber hinausgehende verordnete DiGa | E26: =VLOOKUP(C26,Leistungsaussagen!$A$1:$AE$39,$G$9,FALSE) -> 100 % für verordnete DiGa, welche im gesetzlichen Verzeichnis enthalten sind und für sinnvoll erachtet werden
C27: =Leistungsaussagen!A15 -> Haushaltshilfe | D27: =VLOOKUP(C27,Leistungsaussagen!$A$1:$AE$39,$G$8,FALSE) -> max. 80 € / Tag für höchstens 28 Tage p.a. | E27: =VLOOKUP(C27,Leistungsaussagen!$A$1:$AE$39,$G$9,FALSE) -> nein
C28: =Leistungsaussagen!A16 -> Häusliche Krankenpflege | D28: =VLOOKUP(C28,Leistungsaussagen!$A$1:$AE$39,$G$8,FALSE) -> ja | E28: =VLOOKUP(C28,Leistungsaussagen!$A$1:$AE$39,$G$9,FALSE) -> ja
C30: Stationäre Leistungen
C31: =Leistungsaussagen!A18 -> Gebührenordnung stationär | D31: =VLOOKUP(C31,Leistungsaussagen!$A$1:$AE$39,$G$8,FALSE) -> auch über die Höchstsätze GOÄ | E31: =VLOOKUP(C31,Leistungsaussagen!$A$1:$AE$39,$G$9,FALSE) -> auch über die Höchstsätze GOÄ
C32: =Leistungsaussagen!A19 -> Wahlleistungen | D32: =VLOOKUP(C32,Leistungsaussagen!$A$1:$AE$39,$G$8,FALSE) -> Ein-Bett-Zimmer und Chefarzt | E32: =VLOOKUP(C32,Leistungsaussagen!$A$1:$AE$39,$G$9,FALSE) -> Ein- oder Zwei-Bett-Zimmer und Chefarzt
C33: =Leistungsaussagen!A20 -> Begleitperson für Kinder | D33: =VLOOKUP(C33,Leistungsaussagen!$A$1:$AE$39,$G$8,FALSE) -> bis Alter 15 (darüber bei med. Notwendigkeit) | E33: =VLOOKUP(C33,Leistungsaussagen!$A$1:$AE$39,$G$9,FALSE) -> bis Alter 9
C34: =Leistungsaussagen!A21 -> Ersatz-Krankenhaustagegeld | D34: =VLOOKUP(C34,Leistungsaussagen!$A$1:$AE$39,$G$8,FALSE) -> max. 90 € | E34: =VLOOKUP(C34,Leistungsaussagen!$A$1:$AE$39,$G$9,FALSE) -> max. 110 €
C35: =Leistungsaussagen!A22 -> Stationäre Kurzzeitpflege bei fehlender Pflegebedürftigkeit | D35: =VLOOKUP(C35,Leistungsaussagen!$A$1:$AE$39,$G$8,FALSE) -> max. 1.612 € p.a. (ab 1.1.2022:1.774 €) | E35: =VLOOKUP(C35,Leistungsaussagen!$A$1:$AE$39,$G$9,FALSE) -> nein
C37: Zahnärztliche Leistungen
C38: =Leistungsaussagen!A24 -> Gebührenordnung Zahn | D38: =VLOOKUP(C38,Leistungsaussagen!$A$1:$AE$39,$G$8,FALSE) -> auch über die Höchstsätze GOÄ / GOZ | E38: =VLOOKUP(C38,Leistungsaussagen!$A$1:$AE$39,$G$9,FALSE) -> auch über die Höchstsätze GOÄ / GOZ
C39: =Leistungsaussagen!A25 -> Zahnbehandlung | D39: =VLOOKUP(C39,Leistungsaussagen!$A$1:$AE$39,$G$8,FALSE) -> 1 | E39: =VLOOKUP(C39,Leistungsaussagen!$A$1:$AE$39,$G$9,FALSE) -> 1
C40: =Leistungsaussagen!A26 -> Zahnersatz / Kieferorthopädie | D40: =VLOOKUP(C40,Leistungsaussagen!$A$1:$AE$39,$G$8,FALSE) -> 0.85 | E40: =VLOOKUP(C40,Leistungsaussagen!$A$1:$AE$39,$G$9,FALSE) -> 85 % für ZE und KFO; KFO bis Vollendung des 21. LJ (bei Unfällen oder schweren Erkrankungen auch über das 21. LJ hinaus); 100 % für Inlays
C41: =Leistungsaussagen!A27 -> Zahnstaffel | D41: =VLOOKUP(C41,Leistungsaussagen!$A$1:$AE$39,$G$8,FALSE) -> ZE, KfO: 1. - 2. KJ max. 2.000 € 1. - 4. KJ max. 5.000 € 1. - 6. KJ max. 10.000 € Zahnstaffel entfällt bei Unfällen | E41: =VLOOKUP(C41,Leistungsaussagen!$A$1:$AE$39,$G$9,FALSE) -> ZE, ZB, KfO: 1. KJ max. 1.000 € 1. - 2. KJ max. 2.000 € 1. - 3. KJ max. 3.000 € 1. - 4. KJ max. 4.000 € Zahnstaffel entfällt bei Unfällen
C43: Sonstiges
C44: =Leistungsaussagen!A29 -> Selbstbeteiligung | D44: =VLOOKUP(C44,Leistungsaussagen!$A$1:$AE$39,$G$8,FALSE) -> 20 € je ambulante und zahnärztliche Leistung, max. 500 € p.a., keine SB bei stationären Leistungen, Bezug von Generika, Brillen / Kontaktlinsen | E44: =VLOOKUP(C44,Leistungsaussagen!$A$1:$AE$39,$G$9,FALSE) -> 800 € p.a. für Arzneimittel
C45: =Leistungsaussagen!A30 -> Garantierte Beitragsrückerstattung | D45: =VLOOKUP(C45,Leistungsaussagen!$A$1:$AE$39,$G$8,FALSE) -> 2 MB p.a. garantierte BR, PREMIUM-MED: zusätzlich erfolgsabhängige BR von bis zu 4 MB möglich | E45: =VLOOKUP(C45,Leistungsaussagen!$A$1:$AE$39,$G$9,FALSE) -> keine garantierte BR
C46: =Leistungsaussagen!A31 -> Beitragsbefreiung bei Bezug von Elterngeld | D46: =VLOOKUP(C46,Leistungsaussagen!$A$1:$AE$39,$G$8,FALSE) -> max. 6 Monate (PREMIUM-MED) | E46: =VLOOKUP(C46,Leistungsaussagen!$A$1:$AE$39,$G$9,FALSE) -> nein
C47: =Leistungsaussagen!A32 -> Weltgeltung ohne besondere Vereinbarung | D47: =VLOOKUP(C47,Leistungsaussagen!$A$1:$AE$39,$G$8,FALSE) -> unbegrenzt in Europa, außereuropäisch: PREMIUM-MED: 12 Monate, SP1: 6 Monate | E47: =VLOOKUP(C47,Leistungsaussagen!$A$1:$AE$39,$G$9,FALSE) -> unbegrenzt in Europa, außereuropäisch 12 Monate
C49: Beitragsbeispiele
C50: 10 Jahre | D50: =VLOOKUP(10,Beiträge!$A$1:$AO$82,$G$8,FALSE) -> 159.74 | E50: =VLOOKUP(10,Beiträge!$A$1:$AO$82,$G$9,FALSE) -> 198.13
C51: 30 Jahre | D51: =VLOOKUP(30,Beiträge!$A$1:$AO$82,$G$8,FALSE) -> 454.421 | E51: =VLOOKUP(30,Beiträge!$A$1:$AO$82,$G$9,FALSE) -> 550.44
...

Sheet Leistungsaussagen
A1: Gesellschaft | B1: Continentale - COMFORT-MED + SP2 | C1: Continentale - PREMIUM-MED + SP1 | D1: Allianz - Ärzte Plus 100 | E1: Allianz - Ärzte Best 100 | F1: AXA - VA2-U, KGH2-U, Komfort-Zahn-U | G1: AXA - VA6-U, Prem Zahn-U | H1: Barmenia - VHV2D+ | I1: Barmenia - VHV1D+ | J1: Hallesche - MAS.1 | K1: Inter - JA S10 U | L1: Inter - JABest1 | M1: SDK - AM30, S1, Z8, VP, NH | N1: SDK - AM12, S1, Z9 | O1: uniVersa - uni-AM 620 + uni-STM 100 + uni-ZAM 100
A2: 1 | B2: 2 | C2: 3 | D2: 4 | E2: 5 | F2: 6 | G2: 7 | H2: 8 | I2: 9 | J2: 10 | K2: 11 | L2: 12 | M2: 13 | N2: 14 | O2: 15
A4: Ambulante Leistungen
A5: Gebührenordnung ambulant | B5: bis zu den Höchstsätzen GOÄ | C5: auch über die Höchstsätze GOÄ | D5: bis zu den Höchstsätzen GOÄ | E5: auch über die Höchstsätze GOÄ | F5: auch über die Höchstsätze GOÄ | G5: auch über die Höchstsätze GOÄ | H5: auch über die Höchstsätze GOÄ | I5: auch über die Höchstsätze GOÄ | J5: auch über die Höchstsätze GOÄ | K5: bis zu den Höchstsätzen GOÄ | L5: auch über die Höchstsätze GOÄ | M5: bis zu den Höchstsätzen GOÄ | N5: auch über die Höchstsätze GOÄ | O5: auch über die Höchstsätze GOÄ
A6: Ärztliche Leistungen | B6: 1 | C6: 1 | D6: 1 | E6: 1 | F6: 1 | G6: 1 | H6: 1 | I6: 1 | J6: 1 | K6: 1 | L6: 1 | M6: 1 | N6: 1 | O6: 1
A7: Heilpraktiker bis Höchstsätze GebüH | B7: 100 % bis zu den Mindestsätzen GebüH | C7: 1 | D7: nein | E7: nein | F7: nein | G7: 100 % bis 2.000 € pro VJ | H7: 100 % auch über die Höchstbeträge des GebüH | I7: 100 % auch über die Höchstbeträge der GebüH | J7: nein | K7: nein | L7: 1 | M7: 100 % bis 1.000 € p. a. im Rahmen des GebüH; max. 100 € im 1. KJ und max. 200 € im 2. KJ | N7: 100% bis 1.000 € p.a. | O7: 1
A8: Psychotherapie (Sitzungen p.a.) | B8: 100 % für max. 50 Sitzungen (ab 31. Sitzung vorherige Leistungszusage des VR erforderlich) | C8: 100 % für 1. - 30. Sitzung, 80 % ab 31. Sitzung | D8: 100 % für 1. - 30. Sitzung 70 % für 31. - 50. Sitzung | E8: 100 % für 1. - 30. Sitzung, 70 % ab 31. Sitzung | F8: 100 % für 1. - 30. Sitzung 80 % für 31. - 60. Sitzung 70 % ab 61. Sitzung | G8: 100 % für 1. - 30. Sitzung, 80 % ab 31. Sitzung | H8: 85 % ohne Begrenzung der Sitzungszahl | I8: 85 % ohne Begrenzung der Sitzungszahl | J8: 100 % ohne Begrenzung der Sitzungszahl | K8: 100 % ohne Begrenzung der Sitzungszahl | L8: 100 % ohne Begrenzung der Sitzungszahl | M8: 100 % Erstattung ohne Begrenzung der Sitzungszahl | N8: 100 % nur mit schriftlicher Zusage | O8: 100 % ohne Begrenzung der Sitzungszahl
A9: Heilmittel | B9: 1 | C9: 1 | D9: 100 % nach eigenem Leistungsverzeichnis | E9: 100 % nach eigenem Leistungsverzeichnis | F9: 100 % nach eigenem Leistungsverzeichnis | G9: 100 % nach eigenem Leistungsverzeichnis | H9: 1 | I9: 1 | J9: 100 % nach eigenem Leistungsverzeichnis | K9: 100 % für im Tarif genannte Heilmittel | L9: 1 | M9: 1 | N9: 1 | O9: 1
A10: Vorsorgeuntersuchungen | B10: 100 % nach gesetzl. eingeführten Programmen, keine Altersgrenzen und ohne zeitliche Einschränkung | C10: 100 % nach gesetzl. eingeführten Programmen, keine Altersgrenzen und ohne zeitliche Einschränkung; darüber hinaus bis max. 500 € | D10: 100 % nach gesetzl. eingeführten Programmen, keine Altersbeschränkung | E10: 100 % nach gesetzl. eingeführten Programmen, keine Altersbeschränkung | F10: 100 % nach gesetzl. eingeführten Programmen, keine Altersbeschränkung | G10: 100 % nach gesetzl. eingeführten Programmen, keine Altersbeschränkung | H10: 1 | I10: 1 | J10: 1 | K10: 1 | L10: 1 | M10: 1 | N10: 1 | O10: 100 % nach gesetzl. eingeführten Programmen; darüber hinaus bis max. 500 € alle 2 KJ
A11: Standard-, Reise- und berufsbedingte Impfungen | B11: keine Reise- und berufsbedingten Impfungen | C11: ja | D11: ja, bei reise- und berufsbedingten Impfungen lediglich gegen Hepatitis B | E11: ja, bei berufsbedingten Impfungen lediglich gegen Hepatitis B | F11: keine privaten Reiseimpfungen | G11: keine privaten Reiseimpfungen | H11: ja, private Reise- und berufsbedingte Impfungen unter bestimmten Voraussetzungen | I11: ja, private Reise- und berufsbedingte Impfungen unter bestimmten Voraussetzungen | J11: keine Reise- oder berufsbedingten Impfungen | K11: nur bestimmte Reiseimpfungen, keine berufsbedingten Impfungen | L11: keine berufsbedingten Impfungen | M11: ja, bei berufsbedingten Impfungen nur Reiseimpfungen | N11: ja, bei berufsbedingten Impfungen nur Reiseimpfungen | O11: keine explizite AVB-Regelung
A12: Hilfsmittel | B12: 100 % für Hilfsmittel in einfacher Ausführung; ab 1.000 € RB Kostenvoranschlag erforderlich, sonst 80 % für 1.000 € übersteigenden Teil | C12: 100 %; max. 1.500 € p.a. für Hörgeräte je Ohr; ab 1.000 € RB Kostenvoranschlag erforderlich, sonst 80 % für 1.000 € übersteigenden Teil | D12: 100 % nach Hilfsmittelkatalog; bestimmte Hilfsmittel sind über den VR zu beziehen, ansonsten 80 %, z. T. Höchstbeträge | E12: 100 % nach Hilfsmittelkatalog; bestimmte Hilfsmittel sind über den VR zu beziehen, ansonsten 80 %, z. T. Höchstbeträge | F12: 100 %, bestimmte Hilfsmittel sind über den VR zu beziehen, ansonsten 75 %, z. T. Höchstbeträge | G12: 100 %, bestimmte Hilfsmittel sind über den VR zu beziehen, ansonsten 75 %, z. T. Höchstbeträge | H12: 100 %, orthopädische Schuhzurichtungen bis 1.500 € p.a. | I12: 100 %, orthopädische Schuhzurichtungen bis 1.500 € p.a. | J12: 1 | K12: 100 % bei Bezug über VR, sonst 80 % (bis 300 € RB auch bei Selbstbezug zu 100 %) | L12: 100 % sofern das Hilfsmittel unter 500 € kostet, über den VR bezogen wird oder bei Unfall / Notfall, ansonsten 80 %, z. T. Höchstbeträge | M12: 100 %, keine SB bei lebenserhaltenden Hilfsmitteln | N12: 100 %, keine SB bei lebenserhaltenden Hilfsmitteln | O12: 100 % mit geschlossenem Hilfsmittelkatalog (bestimmte Hilfsmittel einmal p.a.) und lebenserhaltende Hilfsmittel)
A13: Brillen / Kontaktlinsen | B13: 100 % bis 300 € alle 2 KJ | C13: 100 %, max. 400 € alle 2 KJ | D13: 100 % bis 250 € alle 2 Jahre | E13: 100 %, max. 400 € alle 2 KJ | F13: 100 % bis 300 € alle 2 Jahre | G13: 100 % max. 1.000 € alle 2 KJ oder bei Änderung der Sehschärfe, verschiedene Höchstbeträge je nach Dioptrienstärke für Ein- und Mehrstärkengläser | H13: 100 % max. 400 € (600 € ab 8 Dioptr.) alle 2 KJ oder bei Änderung der Sehschärfe | I13: 100 % max. 400 € (600 € ab 8 Dioptr.) alle 2 KJ oder bei Änderung der Sehschärfe | J13: 100 % bis zum Höchstbetrag (Höchstbetrag laut Mitgliederzeitung) | K13: 100 % bis 260 € alle 2 Jahre | L13: 100 % max. 500 € alle 2 Jahre | M13: 100 % bis 250 € alle 3 KJ | N13: 100 % bis 1.000 € alle 3 KJ | O13: gehören zu den Hilfsmitteln
A14: Digitale Gesundheitsanwendungen (DiGa) | B14: nein | C14: 100 % für verordnete DiGa, die im Verzeichnis des BfArM aufgeführt sind und 80 %, max. 1.000 € p.a. für darüber hinausgehende verordnete DiGa | D14: 100 % für verordnete DiGa, welche im gesetzlichen Verzeichnis enthalten sind und für sinnvoll erachtet werden | E14: 100 % für verordnete DiGa, welche im gesetzlichen Verzeichnis enthalten sind und für sinnvoll erachtet werden | F14: 100 % für verordnete DiGa, sofern diese den versicherten Leiustungen zugerechnet werden, Höchstbeträge analog der tariflichen Regelungen | G14: 100 % für verordnete DiGa, sofern diese den versicherten Leiustungen zugerechnet werden, Höchstbeträge analog der tariflichen Regelungen | H14: nein | I14: nein | J14: nein | K14: nein | L14: nein | M14: nein | N14: nein | O14: nein
A15: Haushaltshilfe | B15: nein | C15: max. 80 € / Tag für höchstens 28 Tage p.a. | D15: nein | E15: nein | F15: max. 50 € / Tag für höchstens 14 Tage je Versicherungsfall | G15: max. 50 € / Tag für höchstens 14 Tage je Versicherungsfall | H15: bei Schwangerschaft und Entbindung 100 %, max. 75 € / Tag für höchstens 90 Tage p.a. | I15: bei Schwangerschaft und Entbindung 100 %, max. 75 € / Tag für höchstens 90 Tage p.a. | J15: nein | K15: nein | L15: nein | M15: max. 75 € / Tag für höchstens 28 p.a. | N15: max. 75 € / Tag für höchstens 28 p.a. | O15: nein
A16: Häusliche Krankenpflege | B16: nein | C16: ja | D16: ja | E16: ja | F16: ja | G16: ja | H16: ja | I16: ja | J16: ja | K16: nur häusliche Behandlungspflege | L16: ja | M16: ja | N16: ja | O16: keine explizite AVB-Regelung
A17: Stationäre Leistungen
A18: Gebührenordnung stationär | B18: auch über die Höchstsätze GOÄ | C18: auch über die Höchstsätze GOÄ | D18: auch über die Höchstsätze GOÄ | E18: auch über die Höchstsätze GOÄ | F18: auch über die Höchstsätze GOÄ | G18: auch über die Höchstsätze GOÄ | H18: auch über die Höchstsätze GOÄ | I18: auch über die Höchstsätze GOÄ | J18: auch über die Höchstsätze GOÄ | K18: bis zu den Höchstsätzen GOÄ | L18: auch über die Höchstsätze GOÄ | M18: auch über die Höchstsätze GOÄ | N18: auch über die Höchstsätze GOÄ | O18: auch über die Höchstsätze GOÄ
A19: Wahlleistungen | B19: Zwei-Bett-Zimmer und Chefarzt | C19: Ein-Bett-Zimmer und Chefarzt | D19: Zwei-Bett-Zimmer und Chefarzt | E19: Ein- oder Zwei-Bett-Zimmer und Chefarzt | F19: Zwei-Bett-Zimmer und Chefarzt | G19: Ein- oder Zwei-Bett-Zimmer und Chefarzt | H19: Zwei-Bett-Zimmer und Chefarzt | I19: Ein- oder Zwei-Bett-Zimmer und Chefarzt | J19: Zwei-Bett-Zimmer und Chefarzt | K19: Zwei-Bett-Zimmer und Chefarzt | L19: Ein- oder Zwei-Bett-Zimmer und Chefarzt | M19: Ein-Bett-Zimmer und Chefarzt | N19: Ein- oder Zwei-Bett-Zimmer und Chefarzt | O19: Ein- oder Zwei-Bett-Zimmer und Chefarzt
A20: Begleitperson für Kinder | B20: bis Alter 15 (darüber bei med. Notwendigkeit) | C20: bis Alter 15 (darüber bei med. Notwendigkeit) | D20: bis Alter 9 | E20: bis Alter 9 | F20: bis Alter 4 für max. 5 Tage | G20: bis Alter 4 für max. 5 Tage | H20: bis Alter 9 | I20: bis Alter 9 | J20: bis Alter 15 | K20: nein | L20: bis Alter 12 | M20: bis Alter 11 | N20: bis Alter 11 | O20: keine explizite AVB-Regelung
A21: Ersatz-Krankenhaustagegeld | B21: max. 70 € | C21: max. 90 € | D21: max. 80 € | E21: max. 110 € | F21: max. 30 € | G21: max. 30 € | H21: max. 50 € | I21: max. 75 € | J21: nein | K21: max. 31 € | L21: max. 50 € | M21: max. 100 € | N21: max. 100 € | O21: max. 100 € bei Verzicht auf jegliche Kostenerstattung 225 €
A22: Stationäre Kurzzeitpflege bei fehlender Pflegebedürftigkeit | B22: nein | C22: max. 1.612 € p.a. (ab 1.1.2022:1.774 €) | D22: nein | E22: nein | F22: nein | G22: nein | H22: nein | I22: nein | J22: nein | K22: nein | L22: 100 %, bestimmte Voraussetzungen sind zu beachten | M22: nein | N22: nein | O22: nein
A23: Zahnärztliche Leistungen
A24: Gebührenordnung Zahn | B24: bis zu den Höchstsätzen GOÄ / GOZ | C24: auch über die Höchstsätze GOÄ / GOZ | D24: bis zu den Höchstsätzen GOÄ / GOZ | E24: auch über die Höchstsätze GOÄ / GOZ | F24: auch über die Höchstsätze GOÄ / GOZ | G24: auch über die Höchstsätze GOÄ / GOZ | H24: auch über die Höchstsätze GOÄ / GOZ | I24: auch über die Höchstsätze GOÄ / GOZ | J24: auch über die Höchstsätze GOÄ / GOZ | K24: bis zu den Höchstsätzen GOÄ / GOZ | L24: auch über die Höchstsätze GOÄ / GOZ | M24: bis zu den Höchstsätzen GOÄ / GOZ | N24: auch über die Höchstsätze GOÄ / GOZ | O24: bis zu den Höchstsätzen GOÄ / GOZ
A25: Zahnbehandlung | B25: 1 | C25: 1 | D25: 1 | E25: 1 | F25: 1 | G25: 1 | H25: 1 | I25: 1 | J25: 1 | K25: 1 | L25: 1 | M25: 1 | N25: 1 | O25: 1
A26: Zahnersatz / Kieferorthopädie | B26: 80 % für ZE und KfO; max. 6 Implantate je Kiefer | C26: 0.85 | D26: 75 % für ZE und KfO; KfO bis Vollendung des 21. LJ (bei Unfällen oder schweren Erkrankungen auch über das 21. LJ hinaus); max. 6 Implantate je Kiefer | E26: 85 % für ZE und KFO; KFO bis Vollendung des 21. LJ (bei Unfällen oder schweren Erkrankungen auch über das 21. LJ hinaus); 100 % für Inlays | F26: ZE: 75 % bzw. nach je 3 VJ jährlicher Zahnprophylaxe 85 % KfO: 100 %, wenn die Maßnahme vor Vollendung des 18. LJ begonnen wird, sonst 75 % | G26: ZE: 90 % KFO: 100 %, wenn die Maßnahme vor Vollendung des 18. LJ begonnen wird, sonst 90 % | H26: 85 % für ZE und KFO 100 % für Inlays | I26: 85 % für ZE und KFO 100 % für Inlays | J26: 75 % für ZE und KFO 100 % für Inlays | K26: 80 % für ZE 100 % für KfO | L26: 90 % für ZE 100 % für KFO | M26: 80 % für ZE und KfO Inlays werden als ZB reguliert | N26: 90 % für ZE und KFO 100 % für Inlays (werden als ZB reguliert) | O26: 80 % für ZE 100 % für KFO 100 % für Inlays
A27: Zahnstaffel | B27: ZE, KfO: 1. KJ max. 1.000 € 1. - 2. KJ max. 2.000 € 1. - 3. KJ max. 3.000 € 1. - 4. KJ max. 4.000 € 1. - 5. KJ max. 5.000 € ab 6. KJ max. 10.000 € alle 2 Jahre; Zahnstaffel entfällt bei Unfällen | C27: ZE, KfO: 1. - 2. KJ max. 2.000 € 1. - 4. KJ max. 5.000 € 1. - 6. KJ max. 10.000 € Zahnstaffel entfällt bei Unfällen | D27: ZB, ZE, KfO: 750 € im 1. VJ 1.500 € im 1. - 2. VJ 2.250 € im 1. - 3. VJ 3.000 € im 1. - 4 .VJ Zahnstaffel entfällt bei Unfällen | E27: ZE, ZB, KfO: 1. KJ max. 1.000 € 1. - 2. KJ max. 2.000 € 1. - 3. KJ max. 3.000 € 1. - 4. KJ max. 4.000 € Zahnstaffel entfällt bei Unfällen | F27: ZB, ZE, KfO: 1.000 € im 1. VJ 2.000 € im 1. - 2. VJ 3.000 € im 1. - 3. VJ 4.000 € im 1. - 4. VJ Zahnstaffel entfällt bei Unfällen | G27: ZE, ZB, KfO: 1. KJ max. 2.000 € 1. - 2. KJ max. 4.000 € 1. - 3. KJ max. 6.000 € 1. - 4. KJ max. 8.000 € Zahnstaffel entfällt bei Unfällen | H27: keine Zahnstaffel | I27: keine Zahnstaffel | J27: ZE, ZB, KfO: 1. und 2. KJ max. 1.800 € 3. und 4. KJ max. 2.600 € 5. und 6. KJ max. 3.900 € 7. und 8. KJ max. 5.200 € 9. und 10. KJ max. 7.800 € Zahnstaffel entfällt bei Unfällen | K27: ZB, ZE, KfO: 1.000 € im 1. VJ 2.000 € im 1. - 2. VJ 3.000 € im 1. - 3. VJ 4.000 € im 1. - 4. VJ Zahnstaffel entfällt bei Unfällen | L27: keine Zahnstaffel | M27: ZE: 3.000 € im 1. - 2. KJ 5.000 € im 1. - 3. KJ 7.500 € im 1. - 4 .KJ Zahnstaffel entfällt bei Unfällen | N27: ZE, KfO: 1. - 2. KJ max. 3.000 € 1. - 3. KJ max. 5.000 € 1. - 4. KJ max. 7.500 € Zahnstaffel entfällt bei Unfällen | O27: ZE, ZB, KfO: 1. VJ max. 1.550 € 1. - 2. KJ max. 3.100 € 1. - 3. KJ max. 4.650 € Zahnstaffel entfällt bei Unfällen
A28: Sonstiges
A29: Selbstbeteiligung | B29: 20 € je ambulante ärztl. Leistung, 50 € je Hilfsmittel, keine SB bei stationären Leistungen / Generika / Sehhilfen | C29: 20 € je ambulante und zahnärztliche Leistung, max. 500 € p.a., keine SB bei stationären Leistungen, Bezug von Generika, Brillen / Kontaktlinsen | D29: 800 € p. a. für Arzneimittel | E29: 800 € p.a. für Arzneimittel | F29: keine SB | G29: keine SB | H29: 600 € p.a. auf alle Bereiche | I29: 600 € p.a. auf alle Bereiche | J29: 600 € p.a. auf alle Bereiche | K29: 550 € p.a. auf den ambulanten Bereich | L29: 550 € p.a. auf den ambulanten Bereich | M29: 30 %, max. 480 € p. a. (halbe SB bis Alter 15) auf den ambulanten Bereich | N29: 20 % max. 480 € p.a. auf den ambulanten Bereich | O29: 620 € p.a. auf den ambulanten Bereich
A30: Garantierte Beitragsrückerstattung | B30: COMFORT-MED: 2 MB p. a. garantierte BR, zusätzlich 4 MB erfolgsabhängige BR möglich | C30: 2 MB p.a. garantierte BR, PREMIUM-MED: zusätzlich erfolgsabhängige BR von bis zu 4 MB möglich | D30: keine garantierte BR | E30: keine garantierte BR | F30: keine garantierte BR | G30: keine garantierte BR | H30: keine garantierte BR | I30: keine garantierte BR | J30: keine garantierte BR | K30: keine garantierte BR | L30: keine garantierte BR | M30: keine garantierte BR | N30: keine garantierte BR | O30: keine garantierte BR
A31: Beitragsbefreiung bei Bezug von Elterngeld | B31: nein | C31: max. 6 Monate (PREMIUM-MED) | D31: nein | E31: nein | F31: max. 6 Monate | G31: max. 6 Monate | H31: max. 6 Monate | I31: max. 6 Monate | J31: nein | K31: nein | L31: Auszahlung von max. 6 MB | M31: nein | N31: nein | O31: nein
A32: Weltgeltung ohne besondere Vereinbarung | B32: unbegrenzt in Europa, außereuropäisch: 6 Monate | C32: unbegrenzt in Europa, außereuropäisch: PREMIUM-MED: 12 Monate, SP1: 6 Monate | D32: unbegrenzt in Europa, außereuropäisch: 6 Monate | E32: unbegrenzt in Europa, außereuropäisch 12 Monate | F32: unbegrenzt in Europa, außereuropäisch: 6 Monate | G32: unbegrenzt in Europa, außereuropäisch: 6 Monate | H32: unbegrenzt in Europa, außereuropäisch: 3 Monate | I32: unbegrenzt | J32: 6 Monate | K32: unbegrenzt in Europa, außereuropäisch: 6 Monate | L32: unbegrenzt in Europa, außereuropäisch: 12 Monate | M32: unbegrenzt in Europa, außereuropäisch: 6 Monate | N32: unbegrenzt in Europa außereuropäisch 6 Monate | O32: unbegrenzt in Europa außereuropäisch 36 Monate

Sheet Beiträge
A1: Gesellschaft | B1: Continentale - COMFORT-MED, SP | C1: Continentale - PREMIUM-MED + SP1 | D1: Allianz - Ärzte Plus 100 | E1: Allianz - Ärzte Best 100 | F1: AXA - VA2- U, KGH-U, KomfortZahn-U | G1: AXA - VA6-U, Prem Zahn-U | H1: Barmenia - VHV2D+ | I1: Barmenia - VHV1D+ | J1: Hallesche - MAS.1 | K1: Inter - JA S10 U | L1: Inter - JABest1 | M1: SDK - AM30, S1 + Z8 + VP + NH | N1: SDK - AM12, S1, Z9 | O1: uniVersa - uni-AM 620, uni-STM 100 + uni-ZAM 100
A3: Spalten-Nr. | B3: 1 | C3: 2 | D3: 3 | E3: 4 | F3: 5 | G3: 6 | H3: 7 | I3: 8 | J3: 9 | K3: 10 | L3: 11 | M3: 12 | N3: 13 | O3: 14 | P3: 10 | Q3: 11 | R3: 12 | S3: 13 | T3: 14 | U3: 15 | V3: 16 | W3: 17 | X3: 18 | Y3: 19 | Z3: 20 | AA3: 21 | AB3: 22 | AC3: 23 | AD3: 24 | AE3: 25
B4: BAP2022 | C4: BAP2022 | D4: BAP2022 | E4: keine BAP 2022 | F4: teilweise BAP2022 | G4: teilweise BAP2022 | H4: keine BAP 2022 | I4: keine BAP 2022 | J4: keine BAP 2022 | K4: BAP2022 | L4: BAP2022 | M4: BAP noch unklar | N4: BAP noch unklar | O4: keine BAP 2022
A5: 0 | B5: 137 | C5: 159.74 | D5: 158.76 | E5: 198.13 | F5: 190.12 | G5: 205.37 | H5: 117.43 | I5: 145.31 | J5: 134.08 | K5: 172.92 | L5: 232.06 | M5: 155.37 | N5: 154.08 | O5: 167.59
A6: 1 | B6: 137 | C6: 159.74 | D6: 158.76 | E6: 198.13 | F6: 190.12 | G6: 205.37 | H6: 117.43 | I6: 145.31 | J6: 134.08 | K6: 172.92 | L6: 232.06 | M6: 155.37 | N6: 154.08 | O6: 167.59
A7: 2 | B7: 137 | C7: 159.74 | D7: 158.76 | E7: 198.13 | F7: 190.12 | G7: 205.37 | H7: 117.43 | I7: 145.31 | J7: 134.08 | K7: 172.92 | L7: 232.06 | M7: 155.37 | N7: 154.08 | O7: 167.59
A8: 3 | B8: 137 | C8: 159.74 | D8: 158.76 | E8: 198.13 | F8: 190.12 | G8: 205.37 | H8: 117.43 | I8: 145.31 | J8: 134.08 | K8: 172.92 | L8: 232.06 | M8: 155.37 | N8: 154.08 | O8: 167.59
A9: 4 | B9: 137 | C9: 159.74 | D9: 158.76 | E9: 198.13 | F9: 190.12 | G9: 205.37 | H9: 117.43 | I9: 145.31 | J9: 134.08 | K9: 172.92 | L9: 232.06 | M9: 155.37 | N9: 154.08 | O9: 167.59
A10: 5 | B10: 137 | C10: 159.74 | D10: 158.76 | E10: 198.13 | F10: 190.12 | G10: 205.37 | H10: 117.43 | I10: 145.31 | J10: 134.08 | K10: 172.92 | L10: 232.06 | M10: 155.37 | N10: 154.08 | O10: 167.59
A11: 6 | B11: 137 | C11: 159.74 | D11: 158.76 | E11: 198.13 | F11: 190.12 | G11: 205.37 | H11: 117.43 | I11: 145.31 | J11: 134.08 | K11: 172.92 | L11: 232.06 | M11: 155.37 | N11: 154.08 | O11: 167.59
A12: 7 | B12: 137 | C12: 159.74 | D12: 158.76 | E12: 198.13 | F12: 190.12 | G12: 205.37 | H12: 117.43 | I12: 145.31 | J12: 134.08 | K12: 172.92 | L12: 232.06 | M12: 155.37 | N12: 154.08 | O12: 167.59
A13: 8 | B13: 137 | C13: 159.74 | D13: 158.76 | E13: 198.13 | F13: 190.12 | G13: 205.37 | H13: 117.43 | I13: 145.31 | J13: 134.08 | K13: 172.92 | L13: 232.06 | M13: 155.37 | N13: 154.08 | O13: 167.59
A14: 9 | B14: 137 | C14: 159.74 | D14: 158.76 | E14: 198.13 | F14: 190.12 | G14: 205.37 | H14: 117.43 | I14: 145.31 | J14: 134.08 | K14: 172.92 | L14: 232.06 | M14: 155.37 | N14: 154.08 | O14: 167.59
A15: 10 | B15: 137 | C15: 159.74 | D15: 158.76 | E15: 198.13 | F15: 190.12 | G15: 205.37 | H15: 117.43 | I15: 145.31 | J15: 134.08 | K15: 172.92 | L15: 232.06 | M15: 155.37 | N15: 154.08 | O15: 167.59
A16: 11 | B16: 137 | C16: 159.74 | D16: 158.76 | E16: 198.13 | F16: 190.12 | G16: 205.37 | H16: 117.43 | I16: 145.31 | J16: 134.08 | K16: 172.92 | L16: 232.06 | M16: 155.37 | N16: 154.08 | O16: 167.59
... A60: 55 | B60: 530.607 | C60: 718.872 | D60: 726.187 | E60: 788.04 | F60: 819.775 | G60: 887.623 | H60: 766.568 | I60: 837.771 | J60: 893.684 | K60: 687.357 | L60: 780.01 | M60: 738.275 | N60: 817.707 | O60: 724.284
A61: 56 | B61: 542.883 | C61: 735.768 | D61: 740.278 | E61: 803.748 | F61: 835.901 | G61: 904.145 | H61: 781.418 | I61: 851.961 | J61: 911.746 | K61: 702.625 | L61: 795.652
A62: 57 | B62: 555.676 | C62: 753.346 | D62: 754.93 | E62: 819.907 | F62: 852.676 | G62: 921.184 | H62: 796.873 | I62: 866.569 | J62: 930.468 | K62: 718.366 | L62: 811.778
A63: 58 | B63: 569.03 | C63: 771.661 | D63: 770.242 | E63: 836.572 | F63: 870.199 | G63: 939.004 | H63: 813.021 | I63: 881.65 | J63: 949.773 | K63: 734.635 | L63: 828.443
A64: 59 | B64: 583.033 | C64: 790.834 | D64: 786.214 | E64: 853.82 | F64: 888.272 | G64: 957.374 | H64: 829.928 | I64: 897.237 | J64: 969.507 | K64: 751.498 | L64: 845.702
A65: 60 | B65: 542.77 | C65: 736.67 | D65: 729.86 | E65: 792.42 | F65: 824.28 | G65: 887.56 | H65: 846.945 | I65: 913.297 | J65: 989.45 | K65: 768.713 | L65: 863.302
A66: 61 | B66: 555.5 | C66: 754.74 | D66: 745.61 | E66: 809.24 | F66: 841.73 | G66: 905.41 | H66: 785.53 | I66: 845.35 | J66: 917.85 | K66: 714.83 | L66: 801.17
A67: 62 | B67: 568.23 | C67: 773.19 | D67: 762.01 | E67: 826.53 | F67: 859.66 | G67: 923.88 | H67: 801.27 | I67: 860.96 | J67: 936.14 | K67: 731.23 | L67: 817.91
A68: 63 | B68: 580.99 | C68: 792.06 | D68: 778.94 | E68: 844.23 | F68: 878.35 | G68: 943.21 | H68: 817.15 | I68: 877.16 | J68: 954.74 | K68: 748.08 | L68: 835.1
A69: 64 | B69: 593.76 | C69: 811.43 | D69: 796.36 | E69: 862.2 | F69: 897.1 | G69: 962.6 | H69: 833.22 | I69: 894.02 | J69: 973.3 | K69: 765.45 | L69: 852.79
A70: 65 | B70: 597.89 | C70: 818.96 | F70: 902.72 | G70: 968.6 | H70: 849.77 | I70: 911.6 | J70: 990.71 | K70: 770.95 | L70: 856.75
A71: 66 | B71: 610.66 | C71: 838.08 | F71: 921.19 | G71: 987.58 | H71: 849.49 | I71: 910.66 | J71: 1008.34 | K71: 788.8 | L71: 874.77
A72: 67 | B72: 623.44 | C72: 857.08 | F72: 939.65 | G72: 1006.68 | H72: 867.2 | I72: 929.96 | J72: 1026.19 | K72: 806.97 | L72: 892.99
A73: 68 | B73: 636.25 | C73: 875.96 | F73: 958.13 | G73: 1025.67 | H73: 885.63 | I73: 950.33 | J73: 1044.23 | K73: 825.51 | L73: 911.47
A74: 69 | B74: 649.09 | C74: 894.7 | F74: 976.11 | G74: 1044.11 | H74: 904.87 | I74: 971.89 | J74: 1062.46 | K74: 844.46 | L74: 930.24
A75: 70 | B75: 661.95 | C75: 913.71 | F75: 993.32 | G75: 1061.92 | H75: 923.99 | I75: 993.35 | J75: 1081.13 | K75: 863.32 | L75: 948.78
A76: 71 | B76: 674.8 | C76: 932.98 | F76: 1009.89 | G76: 1078.88 | H76: 942.97 | I76: 1014.7 | J76: 1100.14 | K76: 881.99 | L76: 967.06
A77: 72 | B77: 687.64 | C77: 952.55 | F77: 1025.65 | G77: 1095.12 | H77: 961.81 | I77: 1035.94 | J77: 1119.32 | K77: 900.38 | L77: 985.05
A78: 73 | B78: 700.42 | C78: 972.44 | F78: 1040.38 | G78: 1110.32 | H78: 980.49 | I78: 1057.06 | J78: 1138.46 | K78: 918.37 | L78: 1002.68
A79: 74 | B79: 713.15 | C79: 992.67 | F79: 1054.88 | G79: 1125.22 | H79: 998.91 | I79: 1077.95 | J79: 1157.4 | K79: 935.82 | L79: 1019.88
A80: 75 | B80: 725.6 | C80: 1012.59 | F80: 1062.46 | G80: 1140.01 | H80: 1016.29 | I80: 1097.46 | J80: 1175.64 | K80: 953.18 | L80: 1036.94

Sheet Tabelle1
A1: Gesellschaft | B1: Comtinentale - COMFORT-MED, SP2 | D1: Continentale - PREMIUM-MED + SP1 | F1: Allianz - Ärzte Plus 100 | H1: Allianz - Ärzte Best 100 | J1: AXA - VA2-U, KGH2-U, KomfortZahn-U | L1: AXA: VA6-U, Prem Zahn-U | N1: Barmenia - VHV2D+ | P1: Barmenia - VHV1D+ | R1: Hallesche - MAS.1 | T1: Inter - JA S10U | V1: Inter - JABest1 | X1: SDK - AM30, S1, Z8, VP, NH | Z1: SDK - AM12, S1, Z9 | AB1: uniVersa - uni-AM 620, uni-STM 100, uni-ZAM 100
P2: keine BAP? Beiträge wie bisher | Z2: Daten liegen noch nicht vor | AB2: Daten liegen noch nicht vor
A3: Spalten-Nr. | D3: 2 | H3: 3 | L3: 4 | M3: plus | P3: 5 | R3: 6 | V3: 7 | Z3: 8 | AB3: 9
B4: ohne GZ | C4: mit GZ | D4: ohne GZ | E4: mit GZ | F4: ohne GZ | G4: mit GZ | H4: ohne GZ | I4: mit GZ | J4: ohne GZ | K4: mit GZ | L4: ohne GZ | M4: mit GZ | N4: ohne GZ | O4: mit GZ | P4: ohne GZ | Q4: mit GZ | R4: ohne GZ | S4: mit GZ | T4: ohne GZ | U4: mit GZ | V4: ohne GZ | W4: mit GZ | X4: ohne GZ | Y4: mit GZ | Z4: ohne GZ | AA4: mit GZ | AB4: ohne GZ | AC4: mit GZ
A5: 0
A6: 1
A7: 2
A8: 3
A9: 4
A10: 5
A11: 6
A12: 7
A13: 8
A14: 9
A15: 10
A16: 11
... A78: 73
P92: 1234.03 | Q92: =P92*110% -> 1357.433
P93: 1236.17 | Q93: =P93*110% -> 1359.787
P94: 1237.64 | Q94: =P94*110% -> 1361.404
P95: 1238.16 | Q95: =P95*110% -> 1361.976
P96: 1238.24 | Q96: =P96*110% -> 1362.064
P97: 1237.85 | Q97: =P97*110% -> 1361.635 | AD97: 1653.79 | AL97: 1529.02 | AM97: =AL97*110% -> 1681.922 | AN97: 1209.24 | AO97: =AN97*110% -> 1330.164 | AT97: 1449.17 | AV97: 1545.1 | AX97: 1106.16
P98: 1237.36 | Q98: =P98*110% -> 1361.096 | AD98: 1685.11 | AL98: 1553.76 | AM98: =AL98*110% -> 1709.136 | AN98: 1209.24 | AO98: =AN98*110% -> 1330.164 | AT98: 1449.17 | AV98: 1545.1 | AX98: 1106.24
P99: 1236.65 | Q99: =P99*110% -> 1360.315 | AD99: 1718.78 | AL99: 1579.64 | AM99: =AL99*110% -> 1737.604 | AN99: 1209.24 | AO99: =AN99*110% -> 1330.164 | AT99: 1449.17 | AV99: 1545.1 | AX99: 1106.31
P100: 1235.49 | Q100: =P100*110% -> 1359.039 | AD100: 1755.2 | AL100: 1607.25 | AM100: =AL100*110% -> 1767.975 | AN100: 1209.24 | AO100: =AN100*110% -> 1330.164 | AT100: 1449.17 | AV100: 1545.1 | AX100: 1106.36
P101: 1233.86 | Q101: =P101*110% -> 1357.246 | AD101: 1795.21 | AL101: 1636.56 | AM101: =AL101*110% -> 1800.216 | AN101: 1209.24 | AO101: =AN101*110% -> 1330.164 | AT101: 1449.17 | AV101: 1545.1 | AX101: 1106.46
P102: 1231.76 | Q102: =P102*110% -> 1354.936 | AD102: 1840.07 | AL102: 1671.23 | AM102: =AL102*110% -> 1838.353 | AN102: 1209.24 | AO102: =AN102*110% -> 1330.164 | AT102: 1449.17 | AV102: 1545.1 | AX102: 1106.53
P103: 1229.21 | Q103: =P103*110% -> 1352.131 | AD103: 1892.68 | AL103: 1712.14 | AM103: =AL103*110% -> 1883.354 | AN103: 1209.24 | AO103: =AN103*110% -> 1330.164 | AT103: 1449.17 | AV103: 1545.1 | AX103: 1106.59
P104: 1226.5 | Q104: =P104*110% -> 1349.15 | AD104: 1946.26 | AL104: 1765.19 | AM104: =AL104*110% -> 1941.709 | AN104: 1209.24 | AO104: =AN104*110% -> 1330.164 | AT104: 1449.17 | AV104: 1545.1 | AX104: 1106.66

Sheet Tabelle2
B1: Continentale - COMFORT-MED, SP2 | G1: Continentale - PREMIUM-mED + SP1 | L1: Allianz - Ärzte Plus 100 | O1: Allianz - Ärzte Best | R1: AXA - VA2-U , KGH2-U, KomfortZahn-U | X1: AXA - VA6-U , Prem Zahn-U | AC1: Barmenia - VHV2D+ | AF1: Barmenia - VHV1D+ | AI1: Hallesche - MAS.1 | AL1: Inter - JAS10U | AO1: Inter - JABest1 | AR1: SDK - AM30, S1, Z8, VP, NH | BA1: SDK - AM12, S1, Z9 | BH1: uniVersa - uni-AM 620 + uniSTM 100 + uni-ZAM 100 | CG1: Hallesche
B2: COMFORT-MED | C2: Sp2 | D2: Summe | E2: mit GZ | G2: PREMIUM-MED | H2: SP1 | I2: Summe | J2: mit GZ | L2: MP100(GV) ? | M2: mit GZ | O2: MB100(GV)? | P2: mit GZ | R2: VA2-U | S2: KGH2-U | T2: KomfortZahn-U | U2: Summe | V2: Mit GZ | X2: VA6-U | Y2: Prem Zahn-U | Z2: Summe | AA2: mit GZ | AC2: VHV2D+ | AD2: mit GZ | AF2: VHV1D+ | AG2: mit GZ | AI2: MAS.1 | AJ2: mit GZ | AL2: JAS10U | AM2: mit GZ | AO2: JABest1 | AP2: mit GZ | AR2: AM30 | AS2: S1 | AT2: Z8 | AU2: VP | AV2: Summe | AW2: Mit GZ | AX2: Nhu | AY2: Gesamtsumme | BA2: AM12 | BB2: S1 | BC2: Z9 | BD2: Summe | BE2: mit GZ | BH2: uni-AM620 | BI2: uni-STM 100 | BJ2: uni-ZAM 100 | BK2: Summe | BL2: Mit GZ | BS2: PREMIUM | BT2: SP2 | BX2: PREMIUM | BY2: SP1 | CC2: N | CD2: NG | CG2: NK.2 | CH2: URZ
A3: Alter | B3: BAP2022 | C3: BAP2022 | G3: BAP2022 | H3: BAP2022 | L3: BAP2022 | O3: keine BAP 2022 | R3: BAP2022 | S3: keine BAP 2022 | T3: BAP2022 | X3: BAP2022 | Y3: keine BAP 2022 | AC3: keine BAP 2022 | AF3: keine BAP 2022 | AI3: keine BAP 2022 | AL3: BAP2022 | AO3: BAP2022 | AR3: BAP unklar | AS3: Beitrag | AT3: Beitrag | AU3: Beitrag | AX3: Beitrag | BA3: BAP unklar | BB3: Beitrag | BC3: Beitrag | BH3: keine BAP 2022 | BI3: keine BAP 2022 | BJ3: keine BAP 2022 | BO3: Beitrag | BR3: PREMIUM mit GZ | BS3: Beitrag | BT3: Beitrag | BU3: ohne GZ | BV3: mit GZ | BX3: Beitrag | BY3: Beitrag | CC3: Beitrag | CD3: Beitrag | CG3: Beitrag | CH3: Beitrag
A4: 0 | B4: 132.76 | C4: 4.24 | D4: =SUM(B4+C4) -> 137 | E4: 137 | G4: 151.35 | H4: 8.39 | I4: =SUM(G4+H4) -> 159.74 | J4: 159.74 | L4: 158.76 | M4: 158.76 | O4: 198.13 | P4: 198.13 | R4: 127.16 | S4: 5.05 | T4: 57.91 | U4: =SUM(R4+S4+T4) -> 190.12 | V4: 190.12 | X4: 140.03 | Y4: 65.34 | Z4: =SUM(X4+Y4) -> 205.37 | AA4: 205.37 | AC4: 117.43 | AD4: 117.43 | AF4: 145.31 | AG4: 145.31 | AI4: 134.08 | AJ4: 134.08 | AL4: 172.92 | AM4: 172.92 | AO4: 232.06 | AP4: 232.06 | AR4: 62.69 | AS4: 36.74 | AT4: 37.96 | AU4: 7.67 | AV4: =SUM(AR4:AU4) -> 145.06 | AW4: 145.06 | AX4: 10.31 | AY4: =SUM(AW4+AX4) -> 155.37 | BA4: 73.46 | BB4: 36.74 | BC4: 43.88 | BD4: =SUM(BA4+BB4+BC4) -> 154.08 | BE4: 154.08 | BH4: 46.99 | BI4: 38.29 | BJ4: 82.31 | BK4: =SUM(BH4+BI4+BJ4) -> 167.59 | BL4: 167.59
A5: 1 | B5: 132.76 | C5: 4.24 | D5: =SUM(B5+C5) -> 137 | E5: 137 | G5: 151.35 | H5: 8.39 | I5: =SUM(G5+H5) -> 159.74 | J5: 159.74 | L5: 158.76 | M5: 158.76 | O5: 198.13 | P5: 198.13 | R5: 127.16 | S5: 5.05 | T5: 57.91 | U5: =SUM(R5+S5+T5) -> 190.12 | V5: 190.12 | X5: 140.03 | Y5: 65.34 | Z5: =SUM(X5+Y5) -> 205.37 | AA5: 205.37 | AC5: 117.43 | AD5: 117.43 | AF5: 145.31 | AG5: 145.31 | AI5: 134.08 | AJ5: 134.08 | AL5: 172.92 | AM5: 172.92 | AO5: 232.06 | AP5: 232.06 | AR5: 62.69 | AS5: 36.74 | AT5: 37.96 | AU5: 7.67 | AV5: =SUM(AR5:AU5) -> 145.06 | AW5: 145.06 | AX5: 10.31 | AY5: =SUM(AW5+AX5) -> 155.37 | BA5: 73.46 | BB5: 36.74 | BC5: 43.88 | BD5: =SUM(BA5+BB5+BC5) -> 154.08 | BE5: 154.08 | BH5: 46.99 | BI5: 38.29 | BJ5: 82.31 | BK5: =SUM(BH5+BI5+BJ5) -> 167.59 | BL5: 167.59
A6: 2 | B6: 132.76 | C6: 4.24 | D6: =SUM(B6+C6) -> 137 | E6: 137 | G6: 151.35 | H6: 8.39 | I6: =SUM(G6+H6) -> 159.74 | J6: 159.74 | L6: 158.76 | M6: 158.76 | O6: 198.13 | P6: 198.13 | R6: 127.16 | S6: 5.05 | T6: 57.91 | U6: =SUM(R6+S6+T6) -> 190.12 | V6: 190.12 | X6: 140.03 | Y6: 65.34 | Z6: =SUM(X6+Y6) -> 205.37 | AA6: 205.37 | AC6: 117.43 | AD6: 117.43 | AF6: 145.31 | AG6: 145.31 | AI6: 134.08 | AJ6: 134.08 | AL6: 172.92 | AM6: 172.92 | AO6: 232.06 | AP6: 232.06 | AR6: 62.69 | AS6: 36.74 | AT6: 37.96 | AU6: 7.67 | AV6: =SUM(AR6:AU6) -> 145.06 | AW6: 145.06 | AX6: 10.31 | AY6: =SUM(AW6+AX6) -> 155.37 | BA6: 73.46 | BB6: 36.74 | BC6: 43.88 | BD6: =SUM(BA6+BB6+BC6) -> 154.08 | BE6: 154.08 | BH6: 46.99 | BI6: 38.29 | BJ6: 82.31 | BK6: =SUM(BH6+BI6+BJ6) -> 167.59 | BL6: 167.59
A7: 3 | B7: 132.76 | C7: 4.24 | D7: =SUM(B7+C7) -> 137 | E7: 137 | G7: 151.35 | H7: 8.39 | I7: =SUM(G7+H7) -> 159.74 | J7: 159.74 | L7: 158.76 | M7: 158.76 | O7: 198.13 | P7: 198.13 | R7: 127.16 | S7: 5.05 | T7: 57.91 | U7: =SUM(R7+S7+T7) -> 190.12 | V7: 190.12 | X7: 140.03 | Y7: 65.34 | Z7: =SUM(X7+Y7) -> 205.37 | AA7: 205.37 | AC7: 117.43 | AD7: 117.43 | AF7: 145.31 | AG7: 145.31 | AI7: 134.08 | AJ7: 134.08 | AL7: 172.92 | AM7: 172.92 | AO7: 232.06 | AP7: 232.06 | AR7: 62.69 | AS7: 36.74 | AT7: 37.96 | AU7: 7.67 | AV7: =SUM(AR7:AU7) -> 145.06 | AW7: 145.06 | AX7: 10.31 | AY7: =SUM(AW7+AX7) -> 155.37 | BA7: 73.46 | BB7: 36.74 | BC7: 43.88 | BD7: =SUM(BA7+BB7+BC7) -> 154.08 | BE7: 154.08 | BH7: 46.99 | BI7: 38.29 | BJ7: 82.31 | BK7: =SUM(BH7+BI7+BJ7) -> 167.59 | BL7: 167.59
A8: 4 | B8: 132.76 | C8: 4.24 | D8: =SUM(B8+C8) -> 137 | E8: 137 | G8: 151.35 | H8: 8.39 | I8: =SUM(G8+H8) -> 159.74 | J8: 159.74 | L8: 158.76 | M8: 158.76 | O8: 198.13 | P8: 198.13 | R8: 127.16 | S8: 5.05 | T8: 57.91 | U8: =SUM(R8+S8+T8) -> 190.12 | V8: 190.12 | X8: 140.03 | Y8: 65.34 | Z8: =SUM(X8+Y8) -> 205.37 | AA8: 205.37 | AC8: 117.43 | AD8: 117.43 | AF8: 145.31 | AG8: 145.31 | AI8: 134.08 | AJ8: 134.08 | AL8: 172.92 | AM8: 172.92 | AO8: 232.06 | AP8: 232.06 | AR8: 62.69 | AS8: 36.74 | AT8: 37.96 | AU8: 7.67 | AV8: =SUM(AR8:AU8) -> 145.06 | AW8: 145.06 | AX8: 10.31 | AY8: =SUM(AW8+AX8) -> 155.37 | BA8: 73.46 | BB8: 36.74 | BC8: 43.88 | BD8: =SUM(BA8+BB8+BC8) -> 154.08 | BE8: 154.08 | BH8: 46.99 | BI8: 38.29 | BJ8: 82.31 | BK8: =SUM(BH8+BI8+BJ8) -> 167.59 | BL8: 167.59
A9: 5 | B9: 132.76 | C9: 4.24 | D9: =SUM(B9+C9) -> 137 | E9: 137 | G9: 151.35 | H9: 8.39 | I9: =SUM(G9+H9) -> 159.74 | J9: 159.74 | L9: 158.76 | M9: 158.76 | O9: 198.13 | P9: 198.13 | R9: 127.16 | S9: 5.05 | T9: 57.91 | U9: =SUM(R9+S9+T9) -> 190.12 | V9: 190.12 | X9: 140.03 | Y9: 65.34 | Z9: =SUM(X9+Y9) -> 205.37 | AA9: 205.37 | AC9: 117.43 | AD9: 117.43 | AF9: 145.31 | AG9: 145.31 | AI9: 134.08 | AJ9: 134.08 | AL9: 172.92 | AM9: 172.92 | AO9: 232.06 | AP9: 232.06 | AR9: 62.69 | AS9: 36.74 | AT9: 37.96 | AU9: 7.67 | AV9: =SUM(AR9:AU9) -> 145.06 | AW9: 145.06 | AX9: 10.31 | AY9: =SUM(AW9+AX9) -> 155.37 | BA9: 73.46 | BB9: 36.74 | BC9: 43.88 | BD9: =SUM(BA9+BB9+BC9) -> 154.08 | BE9: 154.08 | BH9: 46.99 | BI9: 38.29 | BJ9: 82.31 | BK9: =SUM(BH9+BI9+BJ9) -> 167.59 | BL9: 167.59
A10: 6 | B10: 132.76 | C10: 4.24 | D10: =SUM(B10+C10) -> 137 | E10: 137 | G10: 151.35 | H10: 8.39 | I10: =SUM(G10+H10) -> 159.74 | J10: 159.74 | L10: 158.76 | M10: 158.76 | O10: 198.13 | P10: 198.13 | R10: 127.16 | S10: 5.05 | T10: 57.91 | U10: =SUM(R10+S10+T10) -> 190.12 | V10: 190.12 | X10: 140.03 | Y10: 65.34 | Z10: =SUM(X10+Y10) -> 205.37 | AA10: 205.37 | AC10: 117.43 | AD10: 117.43 | AF10: 145.31 | AG10: 145.31 | AI10: 134.08 | AJ10: 134.08 | AL10: 172.92 | AM10: 172.92 | AO10: 232.06 | AP10: 232.06 | AR10: 62.69 | AS10: 36.74 | AT10: 37.96 | AU10: 7.67 | AV10: =SUM(AR10:AU10) -> 145.06 | AW10: 145.06 | AX10: 10.31 | AY10: =SUM(AW10+AX10) -> 155.37 | BA10: 73.46 | BB10: 36.74 | BC10: 43.88 | BD10: =SUM(BA10+BB10+BC10) -> 154.08 | BE10: 154.08 | BH10: 46.99 | BI10: 38.29 | BJ10: 82.31 | BK10: =SUM(BH10+BI10+BJ10) -> 167.59 | BL10: 167.59
A11: 7 | B11: 132.76 | C11: 4.24 | D11: =SUM(B11+C11) -> 137 | E11: 137 | G11: 151.35 | H11: 8.39 | I11: =SUM(G11+H11) -> 159.74 | J11: 159.74 | L11: 158.76 | M11: 158.76 | O11: 198.13 | P11: 198.13 | R11: 127.16 | S11: 5.05 | T11: 57.91 | U11: =SUM(R11+S11+T11) -> 190.12 | V11: 190.12 | X11: 140.03 | Y11: 65.34 | Z11: =SUM(X11+Y11) -> 205.37 | AA11: 205.37 | AC11: 117.43 | AD11: 117.43 | AF11: 145.31 | AG11: 145.31 | AI11: 134.08 | AJ11: 134.08 | AL11: 172.92 | AM11: 172.92 | AO11: 232.06 | AP11: 232.06 | AR11: 62.69 | AS11: 36.74 | AT11: 37.96 | AU11: 7.67 | AV11: =SUM(AR11:AU11) -> 145.06 | AW11: 145.06 | AX11: 10.31 | AY11: =SUM(AW11+AX11) -> 155.37 | BA11: 73.46 | BB11: 36.74 | BC11: 43.88 | BD11: =SUM(BA11+BB11+BC11) -> 154.08 | BE11: 154.08 | BH11: 46.99 | BI11: 38.29 | BJ11: 82.31 | BK11: =SUM(BH11+BI11+BJ11) -> 167.59 | BL11: 167.59
A12: 8 | B12: 132.76 | C12: 4.24 | D12: =SUM(B12+C12) -> 137 | E12: 137 | G12: 151.35 | H12: 8.39 | I12: =SUM(G12+H12) -> 159.74 | J12: 159.74 | L12: 158.76 | M12: 158.76 | O12: 198.13 | P12: 198.13 | R12: 127.16 | S12: 5.05 | T12: 57.91 | U12: =SUM(R12+S12+T12) -> 190.12 | V12: 190.12 | X12: 140.03 | Y12: 65.34 | Z12: =SUM(X12+Y12) -> 205.37 | AA12: 205.37 | AC12: 117.43 | AD12: 117.43 | AF12: 145.31 | AG12: 145.31 | AI12: 134.08 | AJ12: 134.08 | AL12: 172.92 | AM12: 172.92 | AO12: 232.06 | AP12: 232.06 | AR12: 62.69 | AS12: 36.74 | AT12: 37.96 | AU12: 7.67 | AV12: =SUM(AR12:AU12) -> 145.06 | AW12: 145.06 | AX12: 10.31 | AY12: =SUM(AW12+AX12) -> 155.37 | BA12: 73.46 | BB12: 36.74 | BC12: 43.88 | BD12: =SUM(BA12+BB12+BC12) -> 154.08 | BE12: 154.08 | BH12: 46.99 | BI12: 38.29 | BJ12: 82.31 | BK12: =SUM(BH12+BI12+BJ12) -> 167.59 | BL12: 167.59
A13: 9 | B13: 132.76 | C13: 4.24 | D13: =SUM(B13+C13) -> 137 | E13: 137 | G13: 151.35 | H13: 8.39 | I13: =SUM(G13+H13) -> 159.74 | J13: 159.74 | L13: 158.76 | M13: 158.76 | O13: 198.13 | P13: 198.13 | R13: 127.16 | S13: 5.05 | T13: 57.91 | U13: =SUM(R13+S13+T13) -> 190.12 | V13: 190.12 | X13: 140.03 | Y13: 65.34 | Z13: =SUM(X13+Y13) -> 205.37 | AA13: 205.37 | AC13: 117.43 | AD13: 117.43 | AF13: 145.31 | AG13: 145.31 | AI13: 134.08 | AJ13: 134.08 | AL13: 172.92 | AM13: 172.92 | AO13: 232.06 | AP13: 232.06 | AR13: 62.69 | AS13: 36.74 | AT13: 37.96 | AU13: 7.67 | AV13: =SUM(AR13:AU13) -> 145.06 | AW13: 145.06 | AX13: 10.31 | AY13: =SUM(AW13+AX13) -> 155.37 | BA13: 73.46 | BB13: 36.74 | BC13: 43.88 | BD13: =SUM(BA13+BB13+BC13) -> 154.08 | BE13: 154.08 | BH13: 46.99 | BI13: 38.29 | BJ13: 82.31 | BK13: =SUM(BH13+BI13+BJ13) -> 167.59 | BL13: 167.59
A14: 10 | B14: 132.76 | C14: 4.24 | D14: =SUM(B14+C14) -> 137 | E14: 137 | G14: 151.35 | H14: 8.39 | I14: =SUM(G14+H14) -> 159.74 | J14: 159.74 | L14: 158.76 | M14: 158.76 | O14: 198.13 | P14: 198.13 | R14: 127.16 | S14: 5.05 | T14: 57.91 | U14: =SUM(R14+S14+T14) -> 190.12 | V14: 190.12 | X14: 140.03 | Y14: 65.34 | Z14: =SUM(X14+Y14) -> 205.37 | AA14: 205.37 | AC14: 117.43 | AD14: 117.43 | AF14: 145.31 | AG14: 145.31 | AI14: 134.08 | AJ14: 134.08 | AL14: 172.92 | AM14: 172.92 | AO14: 232.06 | AP14: 232.06 | AR14: 62.69 | AS14: 36.74 | AT14: 37.96 | AU14: 7.67 | AV14: =SUM(AR14:AU14) -> 145.06 | AW14: 145.06 | AX14: 10.31 | AY14: =SUM(AW14+AX14) -> 155.37 | BA14: 73.46 | BB14: 36.74 | BC14: 43.88 | BD14: =SUM(BA14+BB14+BC14) -> 154.08 | BE14: 154.08 | BH14: 46.99 | BI14: 38.29 | BJ14: 82.31 | BK14: =SUM(BH14+BI14+BJ14) -> 167.59 | BL14: 167.59
A15: 11 | B15: 132.76 | C15: 4.24 | D15: =SUM(B15+C15) -> 137 | E15: 137 | G15: 151.35 | H15: 8.39 | I15: =SUM(G15+H15) -> 159.74 | J15: 159.74 | L15: 158.76 | M15: 158.76 | O15: 198.13 | P15: 198.13 | R15: 127.16 | S15: 5.05 | T15: 57.91 | U15: =SUM(R15+S15+T15) -> 190.12 | V15: 190.12 | X15: 140.03 | Y15: 65.34 | Z15: =SUM(X15+Y15) -> 205.37 | AA15: 205.37 | AC15: 117.43 | AD15: 117.43 | AF15: 145.31 | AG15: 145.31 | AI15: 134.08 | AJ15: 134.08 | AL15: 172.92 | AM15: 172.92 | AO15: 232.06 | AP15: 232.06 | AR15: 62.69 | AS15: 36.74 | AT15: 37.96 | AU15: 7.67 | AV15: =SUM(AR15:AU15) -> 145.06 | AW15: 145.06 | AX15: 10.31 | AY15: =SUM(AW15+AX15) -> 155.37 | BA15: 73.46 | BB15: 36.74 | BC15: 43.88 | BD15: =SUM(BA15+BB15+BC15) -> 154.08 | BE15: 154.08 | BH15: 46.99 | BI15: 38.29 | BJ15: 82.31 | BK15: =SUM(BH15+BI15+BJ15) -> 167.59 | BL15: 167.59
... A23: 19 | B23: 146.24 | C23: 6.67 | D23: =SUM(B23+C23) -> 152.91 | E23: 152.91 | G23: 163.17 | H23: 18.51 | I23: =SUM(G23+H23) -> 181.68 | J23: 181.68 | L23: 201.43 | M23: 201.43 | O23: 223.81 | P23: 223.81 | R23: 129.25 | S23: 5.05 | T23: 68.08 | U23: =SUM(R23+S23+T23) -> 202.38 | V23: 202.38 | X23: 166.81 | Y23: 76.79 | Z23: =SUM(X23+Y23) -> 243.6 | AA23: 243.6 | AC23: 226.25 | AD23: 226.25 | AF23: 250.58 | AG23: 250.58 | AI23: 160.92 | AJ23: 160.92 | AL23: 153.44 | AM23: 153.44 | AO23: 205.9 | AP23: 205.9 | AR23: 147.07 | AS23: 113.46 | AT23: 60.84 | AU23: 10.77 | AV23: =SUM(AR23:AU23) -> 332.14 | AW23: 332.14 | AX23: 30.87 | AY23: =SUM(AW23+AX23) -> 363.01 | BA23: 205.84 | BB23: 113.46 | BC23: 71.42 | BD23: =SUM(BA23+BB23+BC23) -> 390.72 | BE23: 390.72 | BH23: 184.2 | BI23: 125.54 | BJ23: 54.96 | BK23: =SUM(BH23+BI23+BJ23) -> 364.7 | BL23: 364.7
A24: 20 | B24: 146.24 | C24: 6.67 | D24: =SUM(B24+C24) -> 152.91 | E24: 152.91 | G24: 163.17 | H24: 18.51 | I24: =SUM(G24+H24) -> 181.68 | J24: 181.68 | L24: 201.43 | M24: 201.43 | O24: 223.81 | P24: 223.81 | R24: 346.87 | S24: 26.52 | T24: 53.89 | U24: =SUM(R24+S24+T24) -> 427.28 | V24: =U24+(U24*10%) -> 470.008 | X24: 413.47 | Y24: 64.68 | Z24: =SUM(X24+Y24) -> 478.15 | AA24: =Z24+(Z24*10%) -> 525.965 | AC24: 226.25 | AD24: 226.25 | AF24: 250.58 | AG24: 250.58 | AI24: 160.92 | AJ24: 160.92 | AL24: 153.44 | AM24: 153.44 | AO24: 205.9 | AP24: 205.9 | AR24: 149.78 | AS24: 115.34 | AT24: 61.13 | AU24: 10.9 | AV24: =SUM(AR24:AU24) -> 337.15 | AW24: 337.15 | AX24: 31.35 | AY24: =SUM(AW24+AX24) -> 368.5 | BA24: 209.39 | BB24: 115.34 | BC24: 71.76 | BD24: =SUM(BA24+BB24+BC24) -> 396.49 | BE24: 396.49 | BH24: 186.75 | BI24: 127.06 | BJ24: 55.44 | BK24: =SUM(BH24+BI24+BJ24) -> 369.25 | BL24: 369.25
A25: 21 | B25: 240.02 | C25: 25.12 | D25: =SUM(B25+C25) -> 265.14 | E25: =D25+(D25*10%) -> 291.654 | G25: 323.93 | H25: 34.05 | I25: =SUM(G25+H25) -> 357.98 | J25: =I25+(I25*10%) -> 393.778 | L25: 417.55 | M25: =L25+(L25*10%) -> 459.305 | O25: 439.38 | P25: =O25+(O25*10%) -> 483.318 | R25: 353.43 | S25: 27.01 | T25: 54.9 | U25: =SUM(R25+S25+T25) -> 435.34 | V25: =U25+(U25*10%) -> 478.874 | X25: 421.81 | Y25: 66.03 | Z25: =SUM(X25+Y25) -> 487.84 | AA25: =Z25+(Z25*10%) -> 536.624 | AC25: 427.72 | AD25: =AC25+(AC25*10%) -> 470.492 | AF25: 484.62 | AG25: =AF25+(AF25*10%) -> 533.082 | AI25: 452.98 | AJ25: =AI25+(AI25*10%) -> 498.278 | AL25: 358.64 | AM25: =AL25+(AL25*10%) -> 394.504 | AO25: 459.5 | AP25: =AO25+(AO25*10%) -> 505.45 | AR25: 152.52 | AS25: 117.22 | AT25: 61.55 | AU25: 11.04 | AV25: =SUM(AR25:AU25) -> 342.33 | AW25: 342.33 | AX25: 31.83 | AY25: =SUM(AW25+AX25) -> 374.16 | BA25: 213.01 | BB25: 117.22 | BC25: 72.26 | BD25: =SUM(BA25+BB25+BC25) -> 402.49 | BE25: 402.49 | BH25: 189.34 | BI25: 128.65 | BJ25: 55.91 | BK25: =SUM(BH25+BI25+BJ25) -> 373.9 | BL25: =BK25+(BK25*10%) -> 411.29
A26: 22 | B26: 244.15 | C26: 25.84 | D26: =SUM(B26+C26) -> 269.99 | E26: =D26+(D26*10%) -> 296.989 | G26: 329.55 | H26: 34.87 | I26: =SUM(G26+H26) -> 364.42 | J26: =I26+(I26*10%) -> 400.862 | L26: 423.51 | M26: =L26+(L26*10%) -> 465.861 | O26: 447.19 | P26: =O26+(O26*10%) -> 491.909 | R26: 360.17 | S26: 27.52 | T26: 55.93 | U26: =SUM(R26+S26+T26) -> 443.62 | V26: =U26+(U26*10%) -> 487.982 | X26: 430.29 | Y26: 67.38 | Z26: =SUM(X26+Y26) -> 497.67 | AA26: =Z26+(Z26*10%) -> 547.437 | AC26: 433.51 | AD26: =AC26+(AC26*10%) -> 476.861 | AF26: 490.84 | AG26: =AF26+(AF26*10%) -> 539.924 | AI26: 462.79 | AJ26: =AI26+(AI26*10%) -> 509.069 | AL26: 364.12 | AM26: =AL26+(AL26*10%) -> 400.532 | AO26: 464.57 | AP26: =AO26+(AO26*10%) -> 511.027 | AR26: 155.3 | AS26: 119.08 | AT26: 62.1 | AU26: 11.18 | AV26: =SUM(AR26:AU26) -> 347.66 | AW26: =AV26+(AV26*10%) -> 382.426 | AX26: 32.31 | AY26: =SUM(AW26+AX26) -> 414.736 | BA26: 216.68 | BB26: 119.08 | BC26: 72.92 | BD26: =SUM(BA26+BB26+BC26) -> 408.68 | BE26: =BD26+(BD26*10%) -> 449.548 | BH26: 191.98 | BI26: 130.32 | BJ26: 56.4 | BK26: =SUM(BH26+BI26+BJ26) -> 378.7 | BL26: =BK26+(BK26*10%) -> 416.57
A27: 23 | B27: 248.21 | C27: 26.57 | D27: =SUM(B27+C27) -> 274.78 | E27: =D27+(D27*10%) -> 302.258 | G27: 335.08 | H27: 35.72 | I27: =SUM(G27+H27) -> 370.8 | J27: =I27+(I27*10%) -> 407.88 | L27: 429.51 | M27: =L27+(L27*10%) -> 472.461 | O27: 454.71 | P27: =O27+(O27*10%) -> 500.181 | R27: 366.98 | S27: 28.06 | T27: 57 | U27: =SUM(R27+S27+T27) -> 452.04 | V27: =U27+(U27*10%) -> 497.244 | X27: 438.92 | Y27: 68.74 | Z27: =SUM(X27+Y27) -> 507.66 | AA27: =Z27+(Z27*10%) -> 558.426 | AC27: 439.4 | AD27: =AC27+(AC27*10%) -> 483.34 | AF27: 497.17 | AG27: =AF27+(AF27*10%) -> 546.887 | AI27: 472.58 | AJ27: =AI27+(AI27*10%) -> 519.838 | AL27: 369.58 | AM27: =AL27+(AL27*10%) -> 406.538 | AO27: 469.56 | AP27: =AO27+(AO27*10%) -> 516.516 | AR27: 158.12 | AS27: 120.95 | AT27: 62.78 | AU27: 11.33 | AV27: =SUM(AR27:AU27) -> 353.18 | AW27: =AV27+(AV27*10%) -> 388.498 | AX27: 32.8 | AY27: =SUM(AW27+AX27) -> 421.298 | BA27: 220.42 | BB27: 120.95 | BC27: 73.75 | BD27: =SUM(BA27+BB27+BC27) -> 415.12 | BE27: =BD27+(BD27*10%) -> 456.632 | BH27: 194.68 | BI27: 132.07 | BJ27: 56.9 | BK27: =SUM(BH27+BI27+BJ27) -> 383.65 | BL27: =BK27+(BK27*10%) -> 422.015
A28: 24 | B28: 252.16 | C28: 27.31 | D28: =SUM(B28+C28) -> 279.47 | E28: =D28+(D28*10%) -> 307.417 | G28: 340.49 | H28: 36.58 | I28: =SUM(G28+H28) -> 377.07 | J28: =I28+(I28*10%) -> 414.777 | L28: 435.47 | M28: =L28+(L28*10%) -> 479.017 | O28: 461.96 | P28: =O28+(O28*10%) -> 508.156 | R28: 373.55 | S28: 28.56 | T28: 58.03 | U28: =SUM(R28+S28+T28) -> 460.14 | V28: =U28+(U28*10%) -> 506.154 | X28: 447.23 | Y28: 70.06 | Z28: =SUM(X28+Y28) -> 517.29 | AA28: =Z28+(Z28*10%) -> 569.019 | AC28: 445.39 | AD28: =AC28+(AC28*10%) -> 489.929 | AF28: 503.6 | AG28: =AF28+(AF28*10%) -> 553.96 | AI28: 482.41 | AJ28: =AI28+(AI28*10%) -> 530.651 | AL28: 375.02 | AM28: =AL28+(AL28*10%) -> 412.522 | AO28: 474.47 | AP28: =AO28+(AO28*10%) -> 521.917 | AR28: 160.98 | AS28: 122.81 | AT28: 63.61 | AU28: 11.48 | AV28: =SUM(AR28:AU28) -> 358.88 | AW28: =AV28+(AV28*10%) -> 394.768 | AX28: 33.29 | AY28: =SUM(AW28+AX28) -> 428.058 | BA28: 224.22 | BB28: 122.81 | BC28: 74.75 | BD28: =SUM(BA28+BB28+BC28) -> 421.78 | BE28: =BD28+(BD28*10%) -> 463.958 | BH28: 197.44 | BI28: 133.92 | BJ28: 57.42 | BK28: =SUM(BH28+BI28+BJ28) -> 388.78 | BL28: =BK28+(BK28*10%) -> 427.658
A29: 25 | B29: 256.03 | C29: 28.05 | D29: =SUM(B29+C29) -> 284.08 | E29: =D29+(D29*10%) -> 312.488 | G29: 345.79 | H29: 37.45 | I29: =SUM(G29+H29) -> 383.24 | J29: =I29+(I29*10%) -> 421.564 | L29: 441.42 | M29: =L29+(L29*10%) -> 485.562 | O29: 468.94 | P29: =O29+(O29*10%) -> 515.834 | R29: 379.83 | S29: 29.02 | T29: 59.03 | U29: =SUM(R29+S29+T29) -> 467.88 | V29: =U29+(U29*10%) -> 514.668 | X29: 455.03 | Y29: 71.29 | Z29: =SUM(X29+Y29) -> 526.32 | AA29: =Z29+(Z29*10%) -> 578.952 | AC29: 451.37 | AD29: =AC29+(AC29*10%) -> 496.507 | AF29: 510.03 | AG29: =AF29+(AF29*10%) -> 561.033 | AI29: 491.77 | AJ29: =AI29+(AI29*10%) -> 540.947 | AL29: 380.41 | AM29: =AL29+(AL29*10%) -> 418.451 | AO29: 479.27 | AP29: =AO29+(AO29*10%) -> 527.197 | AR29: 163.86 | AS29: 124.74 | AT29: 64.45 | AU29: 11.63 | AV29: =SUM(AR29:AU29) -> 364.68 | AW29: =AV29+(AV29*10%) -> 401.148 | AX29: 33.78 | AY29: =SUM(AW29+AX29) -> 434.928 | BA29: 228.08 | BB29: 124.74 | BC29: 75.76 | BD29: =SUM(BA29+BB29+BC29) -> 428.58 | BE29: =BD29+(BD29*10%) -> 471.438 | BH29: 200.25 | BI29: 135.85 | BJ29: 57.95 | BK29: =SUM(BH29+BI29+BJ29) -> 394.05 | BL29: =BK29+(BK29*10%) -> 433.455
A30: 26 | B30: 259.81 | C30: 28.78 | D30: =SUM(B30+C30) -> 288.59 | E30: =D30+(D30*10%) -> 317.449 | G30: 351 | H30: 38.33 | I30: =SUM(G30+H30) -> 389.33 | J30: =I30+(I30*10%) -> 428.263 | L30: 447.31 | M30: =L30+(L30*10%) -> 492.041 | O30: 475.7 | P30: =O30+(O30*10%) -> 523.27 | R30: 385.87 | S30: 29.43 | T30: 60.01 | U30: =SUM(R30+S30+T30) -> 475.31 | V30: =U30+(U30*10%) -> 522.841 | X30: 462.44 | Y30: 72.49 | Z30: =SUM(X30+Y30) -> 534.93 | AA30: =Z30+(Z30*10%) -> 588.423 | AC30: 457.35 | AD30: =AC30+(AC30*10%) -> 503.085 | AF30: 516.46 | AG30: =AF30+(AF30*10%) -> 568.106 | AI30: 500.68 | AJ30: =AI30+(AI30*10%) -> 550.748 | AL30: 385.76 | AM30: =AL30+(AL30*10%) -> 424.336 | AO30: 483.96 | AP30: =AO30+(AO30*10%) -> 532.356 | AR30: 166.74 | AS30: 126.72 | AT30: 65.3 | AU30: 11.77 | AV30: =SUM(AR30:AU30) -> 370.53 | AW30: =AV30+(AV30*10%) -> 407.583 | AX30: 34.25 | AY30: =SUM(AW30+AX30) -> 441.833 | BA30: 231.98 | BB30: 126.72 | BC30: 76.78 | BD30: =SUM(BA30+BB30+BC30) -> 435.48 | BE30: =BD30+(BD30*10%) -> 479.028 | BH30: 203.1 | BI30: 137.85 | BJ30: 58.49 | BK30: =SUM(BH30+BI30+BJ30) -> 399.44 | BL30: =BK30+(BK30*10%) -> 439.384
A31: 27 | B31: 263.51 | C31: 29.52 | D31: =SUM(B31+C31) -> 293.03 | E31: =D31+(D31*10%) -> 322.333 | G31: 356.12 | H31: 39.21 | I31: =SUM(G31+H31) -> 395.33 | J31: =I31+(I31*10%) -> 434.863 | L31: 453.11 | M31: =L31+(L31*10%) -> 498.421 | O31: 482.22 | P31: =O31+(O31*10%) -> 530.442 | R31: 391.62 | S31: 29.78 | T31: 60.96 | U31: =SUM(R31+S31+T31) -> 482.36 | V31: =U31+(U31*10%) -> 530.596 | X31: 469.39 | Y31: 73.62 | Z31: =SUM(X31+Y31) -> 543.01 | AA31: =Z31+(Z31*10%) -> 597.311 | AC31: 463.35 | AD31: =AC31+(AC31*10%) -> 509.685 | AF31: 522.92 | AG31: =AF31+(AF31*10%) -> 575.212 | AI31: 509.11 | AJ31: =AI31+(AI31*10%) -> 560.021 | AL31: 391.04 | AM31: =AL31+(AL31*10%) -> 430.144 | AO31: 488.53 | AP31: =AO31+(AO31*10%) -> 537.383 | AR31: 169.63 | AS31: 128.78 | AT31: 66.16 | AU31: 11.9 | AV31: =SUM(AR31:AU31) -> 376.47 | AW31: =AV31+(AV31*10%) -> 414.117 | AX31: 34.72 | AY31: =SUM(AW31+AX31) -> 448.837 | BA31: 235.94 | BB31: 128.78 | BC31: 77.82 | BD31: =SUM(BA31+BB31+BC31) -> 442.54 | BE31: =BD31+(BD31*10%) -> 486.794 | BH31: 206.02 | BI31: 139.95 | BJ31: 59.06 | BK31: =SUM(BH31+BI31+BJ31) -> 405.03 | BL31: =BK31+(BK31*10%) -> 445.533
A32: 28 | B32: 267.16 | C32: 30.26 | D32: =SUM(B32+C32) -> 297.42 | E32: =D32+(D32*10%) -> 327.162 | G32: 361.18 | H32: 40.11 | I32: =SUM(G32+H32) -> 401.29 | J32: =I32+(I32*10%) -> 441.419 | L32: 458.91 | M32: =L32+(L32*10%) -> 504.801 | O32: 488.41 | P32: =O32+(O32*10%) -> 537.251 | R32: 397.22 | S32: 30.07 | T32: 61.89 | U32: =SUM(R32+S32+T32) -> 489.18 | V32: =U32+(U32*10%) -> 538.098 | X32: 475.95 | Y32: 74.75 | Z32: =SUM(X32+Y32) -> 550.7 | AA32: =Z32+(Z32*10%) -> 605.77 | AC32: 469.36 | AD32: =AC32+(AC32*10%) -> 516.296 | AF32: 529.4 | AG32: =AF32+(AF32*10%) -> 582.34 | AI32: 516.94 | AJ32: =AI32+(AI32*10%) -> 568.634 | AL32: 396.26 | AM32: =AL32+(AL32*10%) -> 435.886 | AO32: 492.96 | AP32: =AO32+(AO32*10%) -> 542.256 | AR32: 172.53 | AS32: 130.93 | AT32: 67.03 | AU32: 12.03 | AV32: =SUM(AR32:AU32) -> 382.52 | AW32: =AV32+(AV32*10%) -> 420.772 | AX32: 35.18 | AY32: =SUM(AW32+AX32) -> 455.952 | BA32: 239.94 | BB32: 130.93 | BC32: 78.86 | BD32: =SUM(BA32+BB32+BC32) -> 449.73 | BE32: =BD32+(BD32*10%) -> 494.703 | BH32: 209 | BI32: 142.14 | BJ32: 59.64 | BK32: =SUM(BH32+BI32+BJ32) -> 410.78 | BL32: =BK32+(BK32*10%) -> 451.858
A33: 29 | B33: 270.75 | C33: 31 | D33: =SUM(B33+C33) -> 301.75 | E33: =D33+(D33*10%) -> 331.925 | G33: 366.18 | H33: 41 | I33: =SUM(G33+H33) -> 407.18 | J33: =I33+(I33*10%) -> 447.898 | L33: 464.24 | M33: =L33+(L33*10%) -> 510.664 | O33: 494.49 | P33: =O33+(O33*10%) -> 543.939 | R33: 402.49 | S33: 30.36 | T33: 62.8 | U33: =SUM(R33+S33+T33) -> 495.65 | V33: =U33+(U33*10%) -> 545.215 | X33: 482.03 | Y33: 75.84 | Z33: =SUM(X33+Y33) -> 557.87 | AA33: =Z33+(Z33*10%) -> 613.657 | AC33: 475.4 | AD33: =AC33+(AC33*10%) -> 522.94 | AF33: 535.91 | AG33: =AF33+(AF33*10%) -> 589.501 | AI33: 524.26 | AJ33: =AI33+(AI33*10%) -> 576.686 | AL33: 401.39 | AM33: =AL33+(AL33*10%) -> 441.529 | AO33: 497.24 | AP33: =AO33+(AO33*10%) -> 546.964 | AR33: 175.44 | AS33: 133.15 | AT33: 67.91 | AU33: 12.15 | AV33: =SUM(AR33:AU33) -> 388.65 | AW33: =AV33+(AV33*10%) -> 427.515 | AX33: 35.63 | AY33: =SUM(AW33+AX33) -> 463.145 | BA33: 244 | BB33: 133.15 | BC33: 79.91 | BD33: =SUM(BA33+BB33+BC33) -> 457.06 | BE33: =BD33+(BD33*10%) -> 502.766 | BH33: 212.05 | BI33: 144.44 | BJ33: 60.24 | BK33: =SUM(BH33+BI33+BJ33) -> 416.73 | BL33: =BK33+(BK33*10%) -> 458.403
A34: 30 | B34: 274.37 | C34: 31.73 | D34: =SUM(B34+C34) -> 306.1 | E34: =D34+(D34*10%) -> 336.71 | G34: 371.2 | H34: 41.91 | I34: =SUM(G34+H34) -> 413.11 | J34: =I34+(I34*10%) -> 454.421 | L34: 469.19 | M34: =L34+(L34*10%) -> 516.109 | O34: 500.4 | P34: =O34+(O34*10%) -> 550.44 | R34: 407.51 | S34: 30.66 | T34: 63.69 | U34: =SUM(R34+S34+T34) -> 501.86 | V34: =U34+(U34*10%) -> 552.046 | X34: 487.66 | Y34: 76.88 | Z34: =SUM(X34+Y34) -> 564.54 | AA34: =Z34+(Z34*10%) -> 620.994 | AC34: 481.31 | AD34: =AC34+(AC34*10%) -> 529.441 | AF34: 541.96 | AG34: =AF34+(AF34*10%) -> 596.156 | AI34: 531.3 | AJ34: =AI34+(AI34*10%) -> 584.43 | AL34: 406.53 | AM34: =AL34+(AL34*10%) -> 447.183 | AO34: 501.51 | AP34: =AO34+(AO34*10%) -> 551.661 | AR34: 178.37 | AS34: 135.48 | AT34: 68.8 | AU34: 12.26 | AV34: =SUM(AR34:AU34) -> 394.91 | AW34: =AV34+(AV34*10%) -> 434.401 | AX34: 36.06 | AY34: =SUM(AW34+AX34) -> 470.461 | BA34: 248.04 | BB34: 135.48 | BC34: 80.97 | BD34: =SUM(BA34+BB34+BC34) -> 464.49 | BE34: =BD34+(BD34*10%) -> 510.939 | BH34: 215.1 | BI34: 146.78 | BJ34: 60.84 | BK34: =SUM(BH34+BI34+BJ34) -> 422.72 | BL34: =BK34+(BK34*10%) -> 464.992
A35: 31 | B35: 278.04 | C35: 32.47 | D35: =SUM(B35+C35) -> 310.51 | E35: =D35+(D35*10%) -> 341.561 | G35: 376.24 | H35: 42.82 | I35: =SUM(G35+H35) -> 419.06 | J35: =I35+(I35*10%) -> 460.966 | L35: 473.79 | M35: =L35+(L35*10%) -> 521.169 | O35: 506.17 | P35: =O35+(O35*10%) -> 556.787 | R35: 412.36 | S35: 30.96 | T35: 64.57 | U35: =SUM(R35+S35+T35) -> 507.89 | V35: =U35+(U35*10%) -> 558.679 | X35: 492.89 | Y35: 77.9 | Z35: =SUM(X35+Y35) -> 570.79 | AA35: =Z35+(Z35*10%) -> 627.869 | AC35: 487.12 | AD35: =AC35+(AC35*10%) -> 535.832 | AF35: 547.57 | AG35: =AF35+(AF35*10%) -> 602.327 | AI35: 538.17 | AJ35: =AI35+(AI35*10%) -> 591.987 | AL35: 411.7 | AM35: =AL35+(AL35*10%) -> 452.87 | AO35: 505.79 | AP35: =AO35+(AO35*10%) -> 556.369 | AR35: 181.31 | AS35: 137.91 | AT35: 69.69 | AU35: 12.37 | AV35: =SUM(AR35:AU35) -> 401.28 | AW35: =AV35+(AV35*10%) -> 441.408 | AX35: 36.48 | AY35: =SUM(AW35+AX35) -> 477.888 | BA35: 252.07 | BB35: 137.91 | BC35: 82.03 | BD35: =SUM(BA35+BB35+BC35) -> 472.01 | BE35: =BD35+(BD35*10%) -> 519.211 | BH35: 218.15 | BI35: 149.17 | BJ35: 61.44 | BK35: =SUM(BH35+BI35+BJ35) -> 428.76 | BL35: =BK35+(BK35*10%) -> 471.636
