Workbook

Sheet Ansicht - Vergleich
C3: Vergleich Zahnzusatzversicherung CEZE
C6: Bitte wählen Sie eine Gesellschaft aus und tragen das Eintrittsalter ein.
C9: Gesellschaft - Tarif 1: | D9: Continentale - CEZE | G9: =HLOOKUP(D9,Leistungsaussagen!A1:AB2,2,FALSE) -> 2
C10: Gesellschaft - Tarif 2: | D10: ARAG - Dent100 | G10: =HLOOKUP(D10,Leistungsaussagen!A1:AB2,2,FALSE) -> 3
C12: Eintrittsalter: | D12: 35
C16: Gesellschaft - Tarif | D16: =D9 -> Continentale - CEZE | E16: =D10 -> ARAG - Dent100
C18: Zahnersatz
C19: =Leistungsaussagen!A5 -> Regelversorgung | D19: =VLOOKUP(C19,Leistungsaussagen!$A$1:$AB$32,$G$9,FALSE) -> 100 % inkl. GKV-Vorleistung | E19: =VLOOKUP(C19,Leistungsaussagen!$A$1:$AB$32,$G$10,FALSE) -> 100 % inkl. GKV-Vorleistung
C20: =Leistungsaussagen!A6 -> Privatärztliche Versorgung, Funktionsdiagnostik, Augmentation | D20: =VLOOKUP(C20,Leistungsaussagen!$A$1:$AB$32,$G$9,FALSE) -> 100 % inkl. GKV-Vorleistung | E20: =VLOOKUP(C20,Leistungsaussagen!$A$1:$AB$32,$G$10,FALSE) -> 90 - 100 % (je nach Bonusheft)
C21: =Leistungsaussagen!A7 -> Leistungen ohne GKV-Vorleistung (z. B. bei Ärzten ohne Kassenzulassung) | D21: =VLOOKUP(C21,Leistungsaussagen!$A$1:$AB$32,$G$9,FALSE) -> 70 % der erstattungsfähigen Kosten | E21: =VLOOKUP(C21,Leistungsaussagen!$A$1:$AB$32,$G$10,FALSE) -> nein
C23: Zahnbehandlung / Zahnerhalt
C24: =Leistungsaussagen!A9 -> Wurzel- und Parodontosebehandlungen | D24: =VLOOKUP(C24,Leistungsaussagen!$A$1:$AB$32,$G$9,FALSE) -> 100 %* | E24: =VLOOKUP(C24,Leistungsaussagen!$A$1:$AB$32,$G$10,FALSE) -> 100 %*
C25: =Leistungsaussagen!A10 -> Füllungen | D25: =VLOOKUP(C25,Leistungsaussagen!$A$1:$AB$32,$G$9,FALSE) -> 100 %* | E25: =VLOOKUP(C25,Leistungsaussagen!$A$1:$AB$32,$G$10,FALSE) -> 100 %*
C26: =Leistungsaussagen!A11 -> Aufbissbehelfe und Schienen | D26: =VLOOKUP(C26,Leistungsaussagen!$A$1:$AB$32,$G$9,FALSE) -> 100 %* als ZB | E26: =VLOOKUP(C26,Leistungsaussagen!$A$1:$AB$32,$G$10,FALSE) -> 100 %* als ZB
C28: Zahnprophylaxe / Bleaching
C29: =Leistungsaussagen!A13 -> Zahnprophylaxe / Professionelle Zahnreinigung, Fissurenversiegelung | D29: =VLOOKUP(C29,Leistungsaussagen!$A$1:$AB$32,$G$9,FALSE) -> 100 %* max. 250 € je KJ | E29: =VLOOKUP(C29,Leistungsaussagen!$A$1:$AB$32,$G$10,FALSE) -> 100 %* zweimal pro KJ, bis je max. 100 € (ab Alter 18)
C30: =Leistungsaussagen!A14 -> Zahnaufhellende Maßnahmen (z. B. Bleaching) | D30: =VLOOKUP(C30,Leistungsaussagen!$A$1:$AB$32,$G$9,FALSE) -> im Rahmen PZR | E30: =VLOOKUP(C30,Leistungsaussagen!$A$1:$AB$32,$G$10,FALSE) -> 100 % max. 300 € alle 2 KJ
C32: Schmerzlinderung
C33: =Leistungsaussagen!A16 -> Maßnahmen zur Schmerzausschaltung wie Analgo-Sedierung, Vollnarkose, Lachgas-Sedierung, Akupunktur und Hypnose | D33: =VLOOKUP(C33,Leistungsaussagen!$A$1:$AB$32,$G$9,FALSE) -> 100 % max. 250 € je KJ | E33: =VLOOKUP(C33,Leistungsaussagen!$A$1:$AB$32,$G$10,FALSE) -> 100 % max. 350 € je KJ
C35: Kieferorthopädie
C36: =Leistungsaussagen!A18 -> Kieferorthopädie | D36: =VLOOKUP(C36,Leistungsaussagen!$A$1:$AB$32,$G$9,FALSE) -> optional für Kinder über den Tarif CEJ | E36: =VLOOKUP(C36,Leistungsaussagen!$A$1:$AB$32,$G$10,FALSE) -> 90 %, wenn kein Leistungsanspruch gegenüber der GKV besteht; zusätzlich nur für Kinder: 90 % bis max. 2.000 € über die gesamte Vertragslaufzeit für Mehrleistungen
C38: Sonstiges
C39: =Leistungsaussagen!A20 -> Gebührenordnung für Ärzte / Zahnärzte (GOÄ / GOZ) | D39: =VLOOKUP(C39,Leistungsaussagen!$A$1:$AB$32,$G$9,FALSE) -> Bis zu den Höchstsätzen | E39: =VLOOKUP(C39,Leistungsaussagen!$A$1:$AB$32,$G$10,FALSE) -> Bis zu den Höchstsätzen
C40: =Leistungsaussagen!A21 -> Zahnstaffel | D40: =VLOOKUP(C40,Leistungsaussagen!$A$1:$AB$32,$G$9,FALSE) -> ZE: 1.500 € im 1. KJ 3.000 € im 1. - 2. KJ 4.500 € im 1. - 3. KJ 6.000 € im 1. - 4. KJ Zahnstaffel entfällt bei Unfällen | E40: =VLOOKUP(C40,Leistungsaussagen!$A$1:$AB$32,$G$10,FALSE) -> ZE, ZB, KFO: 1.500 € im 1. KJ 3.000 € im 1. - 2. KJ 4.500 € im 1. - 3. KJ 6.000 € im 1. - 4. KJ 7.500 € im 1. - 5. KJ Zahnstaffel entfällt bei Unfällen
C41: =Leistungsaussagen!A22 -> Verkürzte Zahnstaffel bei Wechsel von anderen Unternehmen | D41: =VLOOKUP(C41,Leistungsaussagen!$A$1:$AB$32,$G$9,FALSE) -> Begrenzungen entfallen ab dem 3. KJ, sofern eine unmittelbare Vorversicherung von mind. 3 Jahren mit mind. 80 % für Zahnersatz bestand | E41: =VLOOKUP(C41,Leistungsaussagen!$A$1:$AB$32,$G$10,FALSE) -> nein
C42: =Leistungsaussagen!A23 -> Wartezeiten | D42: =VLOOKUP(C42,Leistungsaussagen!$A$1:$AB$32,$G$9,FALSE) -> nein | E42: =VLOOKUP(C42,Leistungsaussagen!$A$1:$AB$32,$G$10,FALSE) -> nein
C43: =Leistungsaussagen!A24 -> Heil- und Kostenplan | D43: =VLOOKUP(C43,Leistungsaussagen!$A$1:$AB$32,$G$9,FALSE) -> Vorlage empfehlenswert, aber nicht zwingend | E43: =VLOOKUP(C43,Leistungsaussagen!$A$1:$AB$32,$G$10,FALSE) -> Vorlage empfehlenswert, aber nicht zwingend
C44: =Leistungsaussagen!A25 -> Tarif nach Art der Leben | D44: =VLOOKUP(C44,Leistungsaussagen!$A$1:$AB$32,$G$9,FALSE) -> ja | E44: =VLOOKUP(C44,Leistungsaussagen!$A$1:$AB$32,$G$10,FALSE) -> nein
C46: Beitragsbeispiele
C47: 10 Jahre | D47: =VLOOKUP(10,Beiträge!$A$1:$AB$84,$G$9,FALSE) -> 1.58 | E47: =VLOOKUP(10,Beiträge!$A$1:$AB$84,$G$10,FALSE) -> 20.29
C48: 30 Jahre | D48: =VLOOKUP(30,Beiträge!$A$1:$AB$84,$G$9,FALSE) -> 34.57 | E48: =VLOOKUP(30,Beiträge!$A$1:$AB$84,$G$10,FALSE) -> 37.36
C49: 50 Jahre | D49: =VLOOKUP(50,Beiträge!$A$1:$AB$84,$G$9,FALSE) -> 43.32 | E49: =VLOOKUP(50,Beiträge!$A$1:$AB$84,$G$10,FALSE) -> 61.16
C51: Individueller Beitrag
C52: =D12 & " Jahre" -> 35 Jahre | D52: =VLOOKUP(D12,Beiträge!$A$1:$AB$84,$G$9,FALSE) -> 37.01 | E52: =VLOOKUP(D12,Beiträge!$A$1:$AB$84,$G$10,FALSE) -> 37.36
C53: ="Durchschnittsbeitrag zwischen dem " & D12 & ". und dem 75. Lebensjahr" -> Durchschnittsbeitrag zwischen dem 35. und dem 75. Lebensjahr | D53: =VLOOKUP(Beiträge!A84,Beiträge!$A$1:$AB$84,$G$9,FALSE) -> 37.01 | E53: =VLOOKUP(Beiträge!A84,Beiträge!$A$1:$AB$84,$G$10,FALSE) -> 68.21122
E55: Stand 10.2021
C57: * Bei Anspruch auf GKV-Vorleistung wird diese angerechnet

Sheet Leistungsaussagen
A1: Gesellschaft | B1: Continentale - CEZE | C1: ARAG - Dent100 | D1: Barmenia - Mehr Zahn100 + Zahnvorsorge Bonus | E1: Die Bayerische - ZAHN Prestige Plus | F1: DFV - ZahnSchutz Exklusiv 100 | G1: DKV - KDTP100 + KDBE | H1: Envivas - ZahnFlex.MAX | I1: Gothaer - MediZ Duo 100 | J1: Hallesche - GIGA.Dent | K1: HanseMerkur - EZL | L1: HUK-COBURG - ZZ Pro100 | M1: Münchener Verein - ZahnGesund 100 (579) | N1: SDK - Zahn100 (ZP1)
A2: 1 | B2: 2 | C2: 3 | D2: 4 | E2: 5 | F2: 6 | G2: 7 | H2: 8 | I2: 9 | J2: 10 | K2: 11 | L2: 12 | M2: 13 | N2: 14 | O2: 13 | P2: 14 | Q2: 15 | R2: 16 | S2: 17 | T2: 18 | U2: 19 | V2: 20 | W2: 21 | X2: 22 | Y2: 23 | Z2: 24 | AA2: 25 | AB2: 26
A4: Zahnersatz
A5: Regelversorgung | B5: 100 % inkl. GKV-Vorleistung | C5: 100 % inkl. GKV-Vorleistung | D5: 100 % inkl. GKV-Vorleistung | E5: 100 % inkl. GKV-Vorleistung | F5: 100 % inkl. GKV-Vorleistung | G5: 100 % inkl. GKV-Vorleistung | H5: 100 % inkl. GKV-Vorleistung | I5: 100 % inkl. GKV-Vorleistung | J5: 100 % inkl. GKV-Vorleistung | K5: 100 % inkl. GKV-Vorleistung | L5: 100 % inkl. GKV-Vorleistung | M5: 100 % inkl. GKV-Vorleistung | N5: 100 % inkl. GKV-Vorleistung
A6: Privatärztliche Versorgung, Funktionsdiagnostik, Augmentation | B6: 100 % inkl. GKV-Vorleistung | C6: 90 - 100 % (je nach Bonusheft) | D6: 100 % inkl. GKV-Vorleistung 80 % ohne GKV-Vorleistung | E6: 100 % inkl. GKV-Vorleistung 70 % ohne GKV-Vorleistung | F6: 100 % inkl. GKV-Vorleistung 70 % ohne GKV-Vorleistung | G6: 100 % inkl. GKV-Vorleistung 70 % ohne GKV-Vorleistung | H6: 100 % inkl. GKV-Vorleistung 50 % ohne GKV-Vorleistung | I6: 100 % inkl. GKV-Vorleistung 80 % ohne GKV-Vorleistung | J6: 90 - 100 % inkl. GKV-Vorleistung (je nach Bonusheft) 50 % ohne GKV-Vorleistung | K6: 100 % inkl. GKV-Vorleistung 65 % ohne GKV-Vorleistung | L6: 100 % inkl. GKV-Vorleistung 60 % ohne GKV-Vorleistung | M6: 100 % inkl. GKV-Vorleistung 65 % ohne GKV-Vorleistung | N6: 1
A7: Leistungen ohne GKV-Vorleistung (z. B. bei Ärzten ohne Kassenzulassung) | B7: 70 % der erstattungsfähigen Kosten | C7: nein | D7: 80 % der erstattungsfähigen Kosten | E7: 70 % der erstattungsfähigen Kosten | F7: 70 % der erstattungsfähigen Kosten | G7: 70 % der erstattungsfähigen Kosten | H7: 50 % der erstattungsfähigen Kosten | I7: 80 % der erstattungsfähigen Kosten | J7: 50 % der erstattungsfähigen Kosten | K7: 1 | L7: 60 % der erstattungsfähigen Kosten | M7: 65 % der erstattungsfähigen Kosten | N7: 65 % der erstattungsfähigen Kosten
A8: Zahnbehandlung / Zahnerhalt
A9: Wurzel- und Parodontosebehandlungen | B9: 100 %* | C9: 100 %* | D9: 100 %* | E9: 100 % inkl. GKV-Vorleistung 70 % ohne GKV-Vorleistung | F9: 100 % inkl. GKV-Vorleistung 70 % ohne GKV-Vorleistung | G9: 100 %* | H9: 100 % inkl. GKV-Vorleistung 50 % ohne GKV-Vorleistung | I9: 100 % inkl. GKV-Vorleistung 80 % ohne GKV-Vorleistung | J9: Wurzelbehandlung: 100 % * Parodontosebehandlung: 100 % inkl. GKV-Vorleistung | K9: 100 % * | L9: 100 % * | M9: 100 % * | N9: 100 % *
A10: Füllungen | B10: 100 %* | C10: 100 %* | D10: 100 %* | E10: 100 % inkl. GKV-Vorleistung 70 % ohne GKV-Vorleistung | F10: 100 % inkl. GKV-Vorleistung 70 % ohne GKV-Vorleistung | G10: 100 % inkl. GKV-Vorleistung 70 % ohne GKV-Vorleistung | H10: 100 % inkl. GKV-Vorleistung 50 % ohne GKV-Vorleistung | I10: 100 % inkl. GKV-Vorleistung 80 % ohne GKV-Vorleistung | J10: 100 % * | K10: 100 % * | L10: 100 % * | M10: 100 % * | N10: 100 % *
A11: Aufbissbehelfe und Schienen | B11: 100 %* als ZB | C11: 100 %* als ZB | D11: 100 %* als ZB | E11: 100 % inkl. GKV-Vorleistung als ZB | F11: 100 % inkl. GKV-Vorleistung als ZE 70 % ohne GKV-Vorleistung | G11: 100 % inkl. GKV-Vorleistung als ZE 70 % ohne GKV-Vorleistung | H11: 100 % inkl. GKV-Vorleistung als ZB 50 % ohne GKV-Vorleistung | I11: 100 % inkl. GKV-Vorleistung als ZE 80 % ohne GKV-Vorleistung | J11: 90 - 100 % inkl. GKV-Vorleistung als ZE 50 % ohne GKV-Vorleistung | K11: 100 % inkl. GKV-Vorleistung als ZE 65 % ohne GKV-Vorleistung | L11: 100 % inkl. GKV-Vorleistung als ZE 60 % ohne GKV-Vorleistung | M11: 100 % * als KFO | N11: 100 % * als ZB
A12: Zahnprophylaxxe / Bleaching
A13: Zahnprophylaxe / Professionelle Zahnreinigung, Fissurenversiegelung | B13: 100 %* max. 250 € je KJ | C13: 100 %* zweimal pro KJ, bis je max. 100 € (ab Alter 18) | D13: 100 %* | E13: 100 %* max. 250 € je KJ | F13: 100 %* max. 200 € je KJ | G13: 100 % *max. 75 € 2 x je KJ, bei Behandlung durch kooperierendem Arzt 100 € | H13: 100 %* max. 150 € je KJ | I13: 100 %* max. 200 € je KJ | J13: 100 %* 2 x pro Jahr, max. jeweils 80 € | K13: 100 % max. 130 € je KJ * (bis max. 65 € RB) Fissurenversiegelung 100 % | L13: 100 % * | M13: 100 % * max. 200 € je KJ (2 x 100€) | N13: 100 % * max. 200 € je KJ
A14: Zahnaufhellende Maßnahmen (z. B. Bleaching) | B14: im Rahmen PZR | C14: 100 % max. 300 € alle 2 KJ | D14: 100 % max. 200 € alle 2 KJ | E14: im Rahmen PZR | F14: 100 % max. 200 € alle 3 KJ zusammen mit PZR | G14: nein | H14: nein | I14: im Rahmen PZR | J14: nein | K14: nein | L14: nein | M14: 100 % max. 200 € alle 2 VJ | N14: nein
A15: Schmerzlinderung
A16: Maßnahmen zur Schmerzausschaltung wie Analgo-Sedierung, Vollnarkose, Lachgas-Sedierung, Akupunktur und Hypnose | B16: 100 % max. 250 € je KJ | C16: 100 % max. 350 € je KJ | D16: 1 | E16: 1 | F16: 100 % inkl. GKV-VL | G16: 70 % inkl. GKV-VL max. 300 € je KJ | H16: 100 % inkl. GKV-VL 50 % ohne GKV-VL | I16: 100 % inkl. GKV-VL max. 250 € je KJ | J16: ZB: 100% inkl. GKV-VL ZE: 90-100 % (je nach Bonusheft) max. 250 € je KJ | K16: nein | L16: 100 %* bestimmte Voraussetzungen zu beachten | M16: 100 % inkl. GKV-Vorleistung max. 300 € je VJ | N16: 100 % max. 200 € je KJ
A17: Kieferorthopädie
A18: Kieferorthopädie | B18: optional für Kinder über den Tarif CEJ | C18: 90 %, wenn kein Leistungsanspruch gegenüber der GKV besteht; zusätzlich nur für Kinder: 90 % bis max. 2.000 € über die gesamte Vertragslaufzeit für Mehrleistungen | D18: 100 % für Versicherungsfälle mit Behandlungsbeginn vor Vollendung des 21. LJ bis max. 2.000 € einmalig; max. 150 € im 1. KJ, max. 300 € in den ersten 2 KJ, entfällt bei Unfällen | E18: 100 %*, max. 1.500 € einmalig, 80 % ohne GKV-VL, bis max. 2.000 € | F18: 100 %, ohne GKV-VL max. 2.000 €, entfällt bei Unfall | G18: 100 %, max. 1.500 € (Behandlungsbeginn vor Vollendung 18. LJ) | H18: nein | I18: 100 % max. 2.000 € einmalig (bei Behandlung vor Vollendung des 18. LJ) bis max. Alter 21; ab Alter 21 nur bei Unfall; eigene Leistungsstaffel | J18: 100 %, max. 1.000 € (bei Behandlung vor Vollendlung des 18. LJ), nach Vollendung des 18. LJ nur bei Unfall 100 % | K18: nein | L18: 100 % infolge eines Unfalls, max. 3.000 € über die gesamte Vertragslaufzeit | M18: 100 %, max. 5.000 € (bei Behandlung vor Vollendung des 18. LJ); max. 2.500 € (ab Alter 19); über die gesamte Vertragslaufzeit | N18: 100 %, max. 3.000 € über die gesamte Vertragslaufzeit (bis Alter 18, danach nur bei Unfall); Begrenzung entfällt bei Kindern infolge von Unfällen
A19: Sonstiges
A20: Gebührenordnung für Ärzte / Zahnärzte (GOÄ / GOZ) | B20: Bis zu den Höchstsätzen | C20: Bis zu den Höchstsätzen | D20: Bis zu den Höchstsätzen | E20: Bis zu den Höchstsätzen | F20: Bis zu den Höchstsätzen | G20: Bis zu den Höchstsätzen | H20: Bis zu den Höchstsätzen | I20: Bis zu den Höchstsätzen | J20: Bis zu den Höchstsätzen | K20: Bis zu den Höchstsätzen | L20: Bis zu den Höchstsätzen | M20: Bis zu den Höchstsätzen | N20: Bis zu den Höchstsätzen
A21: Zahnstaffel | B21: ZE: 1.500 € im 1. KJ 3.000 € im 1. - 2. KJ 4.500 € im 1. - 3. KJ 6.000 € im 1. - 4. KJ Zahnstaffel entfällt bei Unfällen | C21: ZE, ZB, KFO: 1.500 € im 1. KJ 3.000 € im 1. - 2. KJ 4.500 € im 1. - 3. KJ 6.000 € im 1. - 4. KJ 7.500 € im 1. - 5. KJ Zahnstaffel entfällt bei Unfällen | D21: ZE: 1.500 € im 1. KJ 3.000 € im 1. - 2. KJ 4.500 € im 1. - 3. KJ 6.000 € im 1. - 4. KJ Zahnstaffel entfällt bei Unfällen | E21: ZE, ZB, KFO: 1.500 € im 1. KJ 3.000 € im 1. - 2. KJ 4.500 € im 1. - 3. KJ 6.000 € im 1. - 4. KJ Zahnstaffel entfällt bei Unfällen, andere Staffel bei fehlenden Zähnen | F21: ZE, ZB, KFO: 1.250 € im 1. KJ 2.500 € im 1. - 2. KJ 3.750 € im 1. - 3. KJ 5.000 € im 1. - 4. KJ Zahnstaffel entfällt bei Unfällen | G21: ZE: 600 € im 1. KJ 1.200 € im 1. - 2. KJ 1.800 € im 1. - 3. KJ Zahnstaffel entfällt bei Unfällen | H21: nein | I21: ZE, ZB: 1.000 € im 1. KJ 2.000 € im 1. - 2. KJ 3.000 € im 1. - 3. KJ 5.000 € im 1. - 4. KJ Zahnstaffel entfällt bei Unfällen | J21: ZB, KFO / ZE 500 € / 1.000 € im 1. KJ 1.000 € / 2.000 € im 1. - 2. KJ 1.500 € / 3.000 € im 1. - 3. KJ 2.000 € / 4.000 € im 1. - 4. KJ 2.500 / 5.000 € im 1. - 5. KJ Zahnstaffel entfällt bei Unfällen; dentZE.100: Bei fehlenden Zähnen geringere Erstattung | K21: ZE: 1.000 € im 1. KJ 2.000 € im 1. - 2. KJ 3.000 € im 1. - 3. KJ 4.000 € im 1. - 4. KJ Zahnstaffel entfällt bei Unfällen | L21: ZE: 1.000 € im 1. KJ 2.000 € im 1. - 2. KJ 3.000 € im 1. - 3. KJ 4.000 € im 1. - 4. KJ 5.000 € im 1. - 5. KJ Zahnstaffel entfällt bei Unfällen | M21: ZE, ZB, KFO: 1.500 € im 1. KJ 3.000 € im 1. - 2. KJ 4.500 € im 1. - 3. KJ 6.000 € im 1. - 4. KJ Zahnstaffel entfällt bei Unfällen | N21: ZE, ZB, KFO 1.000 € im 1. KJ 2.000 € im 1. - 2. KJ 3.000 € im 1. - 3. KJ 4.000 € im 1. - 4. KJ Zahnstaffel entfällt bei Unfällen
A22: Verkürzte Zahnstaffel bei Wechsel von anderen Unternehmen | B22: Begrenzungen entfallen ab dem 3. KJ, sofern eine unmittelbare Vorversicherung von mind. 3 Jahren mit mind. 80 % für Zahnersatz bestand | C22: nein | D22: Begrenzungen entfallen ab dem 3. KJ, sofern eine ZE-Versicherung (Umfang irrelevant) bei einem anderen VR in den letzten 6 Monaten bestand | E22: Begrenzungen entfallen ab dem 4. KJ, sofern ein identischer Versicherungsschutz oder ein geringerer seit mind. 3 Jahren bei einem anderen VR bestand. | F22: nein | G22: nein | H22: nein | I22: nein | J22: nein | K22: nein | L22: nein | M22: Anrechnung von Vorversicherungszeiten, sofern eine Vorversicherung bei einem anderen VR mit mind. 90 % Zahnersatz in den letzten 12 Monaten bestand | N22: nein
A23: Wartezeiten | B23: nein | C23: nein | D23: nein | E23: nein | F23: nein | G23: 8 Monate (außer für PZR), entfallen bei Unfall | H23: 8 Monate, entfallen bei Unfall | I23: nein | J23: nein | K23: 3 Monate (außer für PZR) | L23: nein | M23: nein | N23: nein
A24: Heil- und Kostenplan | B24: Vorlage empfehlenswert, aber nicht zwingend | C24: Vorlage empfehlenswert, aber nicht zwingend | D24: Vorlage empfehlenswert, aber nicht zwingend | E24: Vorlage empfehlenswert, aber nicht zwingend | F24: nicht zwingend | G24: Vorlage empfehlenswert, aber nicht zwingend | H24: nicht zwingend | I24: Vorlage empfehlenswert, aber nicht zwingend | J24: Vorlage empfehlenswert, aber nicht zwingend | K24: zwingend erforderlich | L24: nicht zwingend | M24: Vorlage empfehlenswert, aber nicht zwingend | N24: Vorlage empfehlenswert, aber nicht zwingend
A25: Tarif nach Art der Leben | B25: ja | C25: nein | D25: nein | E25: nein | F25: nein | G25: nein | H25: ja | I25: nein | J25: nein | K25: nein | L25: nein | M25: nein | N25: nein
B31: * Bei Anspruch auf GKV-Vorleistung wird diese angerechnet

Sheet Beiträge
B1: Continentale | C1: ARAG | D1: Barmenia | E1: Die Bayerische | F1: DFV | G1: DKV | H1: ENVIVAS | I1: Gothaer | J1: Hallesche | K1: HanseMerkur | L1: HUK-COBURG | M1: Münchener Verein | N1: SDK
B2: CEZE | C2: Dent 100 | D2: MehrZahn100 + Zahnvorsorge Bonus | E2: ZAHN Prestige Plus | F2: ZahnSchutz Exklusiv 100 | G2: KDTP100 + KDBE | H2: ZahnFlex.MAX | I2: MediZ Duo | J2: GIGA. Dent | K2: EZL | L2: ZZ Pro100 | M2: ZahnGesund 100 (579) | N2: Zahn100 (ZP1)
A3: Spalten-Nr. | B3: 2 | C3: 3 | D3: 4 | E3: 5 | F3: 6 | G3: 7 | H3: 8 | I3: 9 | J3: 10 | K3: 11 | L3: 12 | M3: 13 | N3: 14 | O3: 13 | P3: 14 | Q3: 15 | R3: 16
A5: 0 | B5: 1.58 | C5: 20.29 | D5: 16.3 | E5: 22 | F5: 20 | G5: 12.18 | H5: 1.96 | I5: 19.9 | J5: 16 | K5: 8.84 | L5: 10 | M5: 1.5 | N5: 22.64
A6: 1 | B6: 1.58 | C6: 20.29 | D6: 16.3 | E6: 22 | F6: 20 | G6: 12.18 | H6: 1.96 | I6: 19.9 | J6: 16 | K6: 8.84 | L6: 10 | M6: 1.5 | N6: 22.64
A7: 2 | B7: 1.58 | C7: 20.29 | D7: 16.3 | E7: 22 | F7: 20 | G7: 12.18 | H7: 1.96 | I7: 19.9 | J7: 16 | K7: 8.84 | L7: 10 | M7: 1.5 | N7: 22.64
A8: 3 | B8: 1.58 | C8: 20.29 | D8: 16.3 | E8: 22 | F8: 20 | G8: 12.18 | H8: 1.96 | I8: 19.9 | J8: 16 | K8: 8.84 | L8: 10 | M8: 1.5 | N8: 22.64
A9: 4 | B9: 1.58 | C9: 20.29 | D9: 16.3 | E9: 22 | F9: 20 | G9: 12.18 | H9: 1.96 | I9: 19.9 | J9: 16 | K9: 8.84 | L9: 10 | M9: 1.5 | N9: 22.64
A10: 5 | B10: 1.58 | C10: 20.29 | D10: 16.3 | E10: 22 | F10: 20 | G10: 12.18 | H10: 1.96 | I10: 19.9 | J10: 16 | K10: 8.84 | L10: 10 | M10: 1.5 | N10: 22.64
A11: 6 | B11: 1.58 | C11: 20.29 | D11: 16.3 | E11: 22 | F11: 20 | G11: 12.18 | H11: 1.96 | I11: 19.9 | J11: 16 | K11: 8.84 | L11: 10 | M11: 13.3 | N11: 22.64
A12: 7 | B12: 1.58 | C12: 20.29 | D12: 16.3 | E12: 22 | F12: 20 | G12: 12.18 | H12: 1.96 | I12: 19.9 | J12: 16 | K12: 8.84 | L12: 10 | M12: 13.3 | N12: 22.64
A13: 8 | B13: 1.58 | C13: 20.29 | D13: 16.3 | E13: 22 | F13: 20 | G13: 12.18 | H13: 1.96 | I13: 19.9 | J13: 16 | K13: 8.84 | L13: 10 | M13: 13.3 | N13: 22.64
A14: 9 | B14: 1.58 | C14: 20.29 | D14: 16.3 | E14: 22 | F14: 20 | G14: 12.18 | H14: 1.96 | I14: 19.9 | J14: 16 | K14: 8.84 | L14: 10 | M14: 13.3 | N14: 22.64
A15: 10 | B15: 1.58 | C15: 20.29 | D15: 16.3 | E15: 22 | F15: 20 | G15: 12.18 | H15: 1.96 | I15: 19.9 | J15: 16 | K15: 8.84 | L15: 10 | M15: 13.3 | N15: 22.64
A16: 11 | B16: 1.58 | C16: 20.29 | D16: 16.3 | E16: 22 | F16: 20 | G16: 12.18 | H16: 1.96 | I16: 19.9 | J16: 16 | K16: 8.84 | L16: 10 | M16: 13.3 | N16: 22.64
... A80: 75 | B80: 46.58 | C80: 84.76 | D80: 70.4 | E80: 76.7 | F80: 63.5 | G80: 73.76 | H80: 60.3 | I80: 70 | J80: 59.9 | K80: 69.51 | L80: 63.5 | M80: 79.9 | N80: 75.7
A82: mit AR | B82: ja | C82: nein | D82: nein | E82: nein | F82: nein | G82: nein | H82: ja | I82: nein | J82: nein | K82: nein | L82: nein | M82: nein | N82: nein
A84: Durchschnittsbeitrag bis 75 Jahre | B84: =IF(B82="ja", VLOOKUP('Ansicht - Vergleich'!$D$12,Beiträge!$A$1:$AB$84,Beiträge!B3,FALSE),SUM(Hilfstabelle!B3:B80)/$B$88) -> 37.01 | C84: =IF(C82="ja", VLOOKUP('Ansicht - Vergleich'!$D$12,Beiträge!$A$1:$AB$84,Beiträge!C3,FALSE),SUM(Hilfstabelle!C3:C80)/$B$88) -> 68.21122 | D84: =IF(D82="ja", VLOOKUP('Ansicht - Vergleich'!$D$12,Beiträge!$A$1:$AB$84,Beiträge!D3,FALSE),SUM(Hilfstabelle!D3:D80)/$B$88) -> 55.268293 | E84: =IF(E82="ja", VLOOKUP('Ansicht - Vergleich'!$D$12,Beiträge!$A$1:$AB$84,Beiträge!E3,FALSE),SUM(Hilfstabelle!E3:E80)/$B$88) -> 61.54878 | F84: =IF(F82="ja", VLOOKUP('Ansicht - Vergleich'!$D$12,Beiträge!$A$1:$AB$84,Beiträge!F3,FALSE),SUM(Hilfstabelle!F3:F80)/$B$88) -> 52.292683 | G84: =IF(G82="ja", VLOOKUP('Ansicht - Vergleich'!$D$12,Beiträge!$A$1:$AB$84,Beiträge!G3,FALSE),SUM(Hilfstabelle!G3:G80)/$B$88) -> 59.744146 | H84: =IF(H82="ja", VLOOKUP('Ansicht - Vergleich'!$D$12,Beiträge!$A$1:$AB$84,Beiträge!H3,FALSE),SUM(Hilfstabelle!H3:H80)/$B$88) -> 49.63 | I84: =IF(I82="ja", VLOOKUP('Ansicht - Vergleich'!$D$12,Beiträge!$A$1:$AB$84,Beiträge!I3,FALSE),SUM(Hilfstabelle!I3:I80)/$B$88) -> 53.480488 | ... N84: =IF(N82="ja", VLOOKUP('Ansicht - Vergleich'!$D$12,Beiträge!$A$1:$AB$84,Beiträge!N3,FALSE),SUM(Hilfstabelle!N3:N80)/$B$88) -> 52.292195
A88: Anzahl Jahre | B88: =76-'Ansicht - Vergleich'!D12 -> 41

Sheet Beitragstabellen gesamt
B1: Continentale | C1: ARAG | D1: Barmenia | G1: Die Bayerische | H1: DFV | I1: Gothaer | J1: Hallesche | K1: HanseMerkur | L1: HUK-COBURG | M1: Münchener Verein | N1: SDK | O1: DKV | R1: ENVIVAS
B2: CEZE | C2: Dent 100 | D2: MehrZahn100 | E2: Mehr Zahnvorsorge Bonus | F2: Gesamt | G2: ZAHN Prestige Plus | H2: ZahnSchutz Exklusiv 100 | I2: MediZ Duo 100 | J2: GIGA. Dent | K2: EZL | L2: ZZ Pro100 | M2: ZahnGesund 100 (579) | N2: Zahn100 (ZP1) | O2: KDTP100 | P2: KDBE | Q2: Gesamt | R2: ZahnFlex.MAX
A3: Spalten-Nr. | B3: 2 | C3: 3 | D3: 4 | G3: 5 | H3: 6 | I3: 7 | J3: 8 | K3: 9 | L3: 10 | M3: 11 | N3: 12 | O3: 13 | R3: 14 | S3: 15 | T3: 16
B4: Beitrag | C4: Beitrag | D4: Beitrag | E4: Beitrag | G4: Beitrag | H4: Beitrag | I4: Beitrag | J4: keine BAP | K4: Beitrag | L4: Beitrag | M4: Beitrag | N4: Beitrag | O4: Beitrag | P4: Beitrag | R4: Beitrag
A5: 0 | B5: 1.58 | C5: 20.29 | D5: 1.3 | E5: 15 | F5: =D5+E5 -> 16.3 | G5: 22 | H5: 20 | I5: 19.9 | J5: 16 | K5: 8.84 | L5: 10 | M5: 1.5 | N5: 22.64 | O5: 2.32 | P5: 9.86 | Q5: =SUM(O5+P5) -> 12.18 | R5: 1.96
A6: 1 | B6: 1.58 | C6: 20.29 | D6: 1.3 | E6: 15 | F6: =D6+E6 -> 16.3 | G6: 22 | H6: 20 | I6: 19.9 | J6: 16 | K6: 8.84 | L6: 10 | M6: 1.5 | N6: 22.64 | O6: 2.32 | P6: 9.86 | Q6: =SUM(O6+P6) -> 12.18 | R6: 1.96
A7: 2 | B7: 1.58 | C7: 20.29 | D7: 1.3 | E7: 15 | F7: =D7+E7 -> 16.3 | G7: 22 | H7: 20 | I7: 19.9 | J7: 16 | K7: 8.84 | L7: 10 | M7: 1.5 | N7: 22.64 | O7: 2.32 | P7: 9.86 | Q7: =SUM(O7+P7) -> 12.18 | R7: 1.96
A8: 3 | B8: 1.58 | C8: 20.29 | D8: 1.3 | E8: 15 | F8: =D8+E8 -> 16.3 | G8: 22 | H8: 20 | I8: 19.9 | J8: 16 | K8: 8.84 | L8: 10 | M8: 1.5 | N8: 22.64 | O8: 2.32 | P8: 9.86 | Q8: =SUM(O8+P8) -> 12.18 | R8: 1.96
A9: 4 | B9: 1.58 | C9: 20.29 | D9: 1.3 | E9: 15 | F9: =D9+E9 -> 16.3 | G9: 22 | H9: 20 | I9: 19.9 | J9: 16 | K9: 8.84 | L9: 10 | M9: 1.5 | N9: 22.64 | O9: 2.32 | P9: 9.86 | Q9: =SUM(O9+P9) -> 12.18 | R9: 1.96
A10: 5 | B10: 1.58 | C10: 20.29 | D10: 1.3 | E10: 15 | F10: =D10+E10 -> 16.3 | G10: 22 | H10: 20 | I10: 19.9 | J10: 16 | K10: 8.84 | L10: 10 | M10: 1.5 | N10: 22.64 | O10: 2.32 | P10: 9.86 | Q10: =SUM(O10+P10) -> 12.18 | R10: 1.96
A11: 6 | B11: 1.58 | C11: 20.29 | D11: 1.3 | E11: 15 | F11: =D11+E11 -> 16.3 | G11: 22 | H11: 20 | I11: 19.9 | J11: 16 | K11: 8.84 | L11: 10 | M11: 13.3 | N11: 22.64 | O11: 2.32 | P11: 9.86 | Q11: =SUM(O11+P11) -> 12.18 | R11: 1.96
A12: 7 | B12: 1.58 | C12: 20.29 | D12: 1.3 | E12: 15 | F12: =D12+E12 -> 16.3 | G12: 22 | H12: 20 | I12: 19.9 | J12: 16 | K12: 8.84 | L12: 10 | M12: 13.3 | N12: 22.64 | O12: 2.32 | P12: 9.86 | Q12: =SUM(O12+P12) -> 12.18 | R12: 1.96
A13: 8 | B13: 1.58 | C13: 20.29 | D13: 1.3 | E13: 15 | F13: =D13+E13 -> 16.3 | G13: 22 | H13: 20 | I13: 19.9 | J13: 16 | K13: 8.84 | L13: 10 | M13: 13.3 | N13: 22.64 | O13: 2.32 | P13: 9.86 | Q13: =SUM(O13+P13) -> 12.18 | R13: 1.96
A14: 9 | B14: 1.58 | C14: 20.29 | D14: 1.3 | E14: 15 | F14: =D14+E14 -> 16.3 | G14: 22 | H14: 20 | I14: 19.9 | J14: 16 | K14: 8.84 | L14: 10 | M14: 13.3 | N14: 22.64 | O14: 2.32 | P14: 9.86 | Q14: =SUM(O14+P14) -> 12.18 | R14: 1.96
A15: 10 | B15: 1.58 | C15: 20.29 | D15: 1.3 | E15: 15 | F15: =D15+E15 -> 16.3 | G15: 22 | H15: 20 | I15: 19.9 | J15: 16 | K15: 8.84 | L15: 10 | M15: 13.3 | N15: 22.64 | O15: 2.32 | P15: 9.86 | Q15: =SUM(O15+P15) -> 12.18 | R15: 1.96
A16: 11 | B16: 1.58 | C16: 20.29 | D16: 1.3 | E16: 15 | F16: =D16+E16 -> 16.3 | G16: 22 | H16: 20 | I16: 19.9 | J16: 16 | K16: 8.84 | L16: 10 | M16: 13.3 | N16: 22.64 | O16: 2.32 | P16: 9.86 | Q16: =SUM(O16+P16) -> 12.18 | R16: 1.96
... A69: 64 | B69: 47.25 | C69: 84.76 | D69: 61.4 | E69: 9 | F69: =D69+E69 -> 70.4 | G69: 76.7 | H69: 64.5 | I69: 70 | J69: 54.9 | K69: 69.51 | L69: 63.5 | M69: 79.9 | N69: 67.06 | O69: 63.92 | P69: 9.84 | Q69: =SUM(O69+P69) -> 73.76 | R69: 60.3
A70: 65 | B70: 46.49 | C70: 84.76 | D70: 61.4 | E70: 9 | F70: =D70+E70 -> 70.4 | G70: 76.7 | H70: 64.5 | I70: 70 | J70: 54.9 | K70: 69.51 | L70: 63.5 | M70: 79.9 | N70: 67.06 | O70: 63.92 | P70: 9.84 | Q70: =SUM(O70+P70) -> 73.76
A71: 66 | B71: 46.53 | D71: 61.4 | E71: 9 | F71: =D71+E71 -> 70.4 | G71: 78.5 | H71: 64.5 | I71: 70 | J71: 59.9 | K71: 69.51 | L71: 63.5 | M71: 79.9 | N71: 67.06 | O71: 63.92 | P71: 9.84 | Q71: =SUM(O71+P71) -> 73.76
A72: 67 | B72: 46.57 | D72: 61.4 | E72: 9 | F72: =D72+E72 -> 70.4 | G72: 78.5 | H72: 64.5 | I72: 70 | J72: 59.9 | K72: 69.51 | L72: 63.5 | M72: 79.9 | N72: 67.06 | O72: 63.92 | P72: 9.84 | Q72: =SUM(O72+P72) -> 73.76
A73: 68 | B73: 46.58 | D73: 61.4 | E73: 9 | F73: =D73+E73 -> 70.4 | G73: 78.5 | H73: 64.5 | I73: 70 | J73: 59.9 | K73: 69.51 | L73: 63.5 | M73: 79.9 | N73: 67.06 | O73: 63.92 | P73: 9.84 | Q73: =SUM(O73+P73) -> 73.76
A74: 69 | B74: 46.58 | D74: 61.4 | E74: 9 | F74: =D74+E74 -> 70.4 | G74: 78.5 | H74: 64.5 | I74: 70 | J74: 59.9 | K74: 69.51 | L74: 63.5 | M74: 79.9 | N74: 67.06 | O74: 63.92 | P74: 9.84 | Q74: =SUM(O74+P74) -> 73.76
A75: 70 | B75: 46.58 | D75: 61.4 | E75: 9 | F75: =D75+E75 -> 70.4 | G75: 78.5 | H75: 64.5 | I75: 70 | J75: 59.9 | K75: 69.51 | L75: 63.5 | M75: 79.9 | N75: 67.06 | O75: 63.92 | P75: 9.84 | Q75: =SUM(O75+P75) -> 73.76
A76: 71 | B76: 46.58 | D76: 61.4 | E76: 9 | F76: =D76+E76 -> 70.4 | G76: 76.7 | H76: 63.5 | I76: 70 | J76: 59.9 | K76: 69.51 | L76: 63.5 | M76: 79.9 | N76: 75.7 | O76: 63.92 | P76: 9.84 | Q76: =SUM(O76+P76) -> 73.76
A77: 72 | B77: 46.58 | D77: 61.4 | E77: 9 | F77: =D77+E77 -> 70.4 | G77: 76.7 | H77: 63.5 | I77: 70 | J77: 59.9 | K77: 69.51 | L77: 63.5 | M77: 79.9 | N77: 75.7 | O77: 63.92 | P77: 9.84 | Q77: =SUM(O77+P77) -> 73.76
A78: 73 | B78: 46.58 | D78: 61.4 | E78: 9 | F78: =D78+E78 -> 70.4 | G78: 76.7 | H78: 63.5 | I78: 70 | J78: 59.9 | K78: 69.51 | L78: 63.5 | M78: 79.9 | N78: 75.7 | O78: 63.92 | P78: 9.84 | Q78: =SUM(O78+P78) -> 73.76
A79: 74 | B79: 46.58 | D79: 61.4 | E79: 9 | F79: =D79+E79 -> 70.4 | G79: 76.7 | H79: 63.5 | I79: 70 | J79: 59.9 | K79: 69.51 | L79: 63.5 | M79: 79.9 | N79: 75.7 | O79: 63.92 | P79: 9.84 | Q79: =SUM(O79+P79) -> 73.76
A80: 75 | B80: 46.58 | D80: 61.4 | E80: 9 | F80: =D80+E80 -> 70.4 | G80: 76.7 | H80: 63.5 | I80: 70 | J80: 59.9 | K80: 69.51 | L80: 63.5 | M80: 79.9 | N80: 75.7 | O80: 63.92 | P80: 9.84 | Q80: =SUM(O80+P80) -> 73.76
A81: 76 | D81: 61.4 | E81: 9 | F81: =D81+E81 -> 70.4 | G81: 74.5 | H81: 63.5 | I81: 70 | J81: 59.9 | K81: 69.51 | L81: 63.5 | M81: 79.9 | N81: 75.7 | O81: 63.92 | P81: 9.84 | Q81: =SUM(O81+P81) -> 73.76
A82: 77 | D82: 61.4 | E82: 9 | F82: =D82+E82 -> 70.4 | G82: 74.5 | H82: 63.5 | I82: 70 | J82: 59.9 | K82: 69.51 | L82: 63.5 | M82: 79.9 | N82: 75.7 | O82: 63.92 | P82: 9.84 | Q82: =SUM(O82+P82) -> 73.76
A83: 78 | D83: 61.4 | E83: 9 | F83: =D83+E83 -> 70.4 | G83: 74.5 | H83: 63.5 | I83: 70 | J83: 59.9 | K83: 69.51 | L83: 63.5 | M83: 79.9 | N83: 75.7 | O83: 63.92 | P83: 9.84 | Q83: =SUM(O83+P83) -> 73.76
A84: 79 | D84: 61.4 | E84: 9 | F84: =D84+E84 -> 70.4 | G84: 74.5 | H84: 63.5 | I84: 70 | J84: 59.9 | K84: 69.51 | L84: 63.5 | M84: 79.9 | N84: 75.7 | O84: 63.92 | P84: 9.84 | Q84: =SUM(O84+P84) -> 73.76
A85: 80 | D85: 61.4 | E85: 9 | F85: =D85+E85 -> 70.4 | G85: 74.5 | H85: 63.5 | I85: 70 | J85: 59.9 | K85: 69.51 | L85: 63.5 | M85: 79.9 | N85: 75.7 | O85: 63.92 | P85: 9.84 | Q85: =SUM(O85+P85) -> 73.76
A86: 81 | D86: 61.4 | E86: 9 | F86: =D86+E86 -> 70.4 | G86: 58.2 | H86: 34.5 | I86: 70 | J86: 59.9 | K86: 69.51 | L86: 63.5 | M86: 79.9 | N86: 75.7
A87: 82 | D87: 61.4 | E87: 9 | F87: =D87+E87 -> 70.4 | G87: 58.2 | H87: 34.5 | I87: 70 | J87: 59.9 | K87: 69.51 | L87: 63.5 | M87: 79.9 | N87: 75.7
A88: 83 | D88: 61.4 | E88: 9 | F88: =D88+E88 -> 70.4 | G88: 58.2 | H88: 34.5 | I88: 70 | J88: 59.9 | K88: 69.51 | L88: 63.5 | M88: 79.9 | N88: 75.7
D89: 61.4 | E89: 9 | F89: =D89+E89 -> 70.4 | G89: 58.2 | H89: 34.5 | I89: 70 | J89: 59.9 | K89: 69.51 | L89: 63.5 | M89: 79.9 | N89: 75.7
D90: 61.4 | E90: 9 | F90: =D90+E90 -> 70.4 | G90: 58.2 | H90: 34.5 | I90: 70 | J90: 59.9 | K90: 69.51 | L90: 63.5 | M90: 79.9 | N90: 75.7
D91: 61.4 | E91: 9 | F91: =D91+E91 -> 70.4 | G91: 42.4 | H91: 34.5 | I91: 70 | J91: 59.9 | K91: 69.51 | L91: 63.5 | M91: 79.9 | N91: 75.7
D92: 61.4 | E92: 9 | F92: =D92+E92 -> 70.4 | G92: 42.4 | H92: 34.5 | I92: 70 | J92: 59.9 | K92: 69.51 | L92: 63.5 | M92: 79.9 | N92: 75.7
D93: 61.4 | E93: 9 | F93: =D93+E93 -> 70.4 | G93: 42.4 | H93: 34.5 | I93: 70 | J93: 59.9 | K93: 69.51 | L93: 63.5 | M93: 79.9 | N93: 75.7
D94: 61.4 | E94: 9 | F94: =D94+E94 -> 70.4 | G94: 42.4 | H94: 34.5 | I94: 70 | J94: 59.9 | K94: 69.51 | L94: 63.5 | M94: 79.9 | N94: 75.7
D95: 61.4 | E95: 9 | F95: =D95+E95 -> 70.4 | G95: 42.4 | H95: 34.5 | I95: 70 | K95: 69.51 | L95: 63.5 | M95: 79.9 | N95: 75.7
D96: 61.4 | E96: 9 | F96: =D96+E96 -> 70.4 | G96: 42.4 | H96: 34.5 | I96: 70 | K96: 69.51 | L96: 63.5 | M96: 79.9 | N96: 75.7
D97: 61.4 | E97: 9 | F97: =D97+E97 -> 70.4 | G97: 42.4 | H97: 34.5 | I97: 70 | K97: 69.51 | L97: 63.5 | M97: 79.9 | N97: 75.7
D98: 61.4 | E98: 9 | F98: =D98+E98 -> 70.4 | G98: 42.4 | H98: 34.5 | I98: 70 | K98: 69.51 | L98: 63.5 | M98: 79.9 | N98: 75.7
D99: 61.4 | E99: 9 | F99: =D99+E99 -> 70.4 | G99: 42.4 | H99: 34.5 | I99: 70 | K99: 69.51 | L99: 63.5 | M99: 79.9 | N99: 75.7
D100: 61.4 | E100: 9 | F100: =D100+E100 -> 70.4 | G100: 42.4 | H100: 34.5 | I100: 70 | K100: 69.51 | L100: 63.5 | M100: 79.9 | N100: 75.7
D101: 61.4 | E101: 9 | F101: =D101+E101 -> 70.4 | G101: 42.4 | H101: 34.5 | I101: 70 | K101: 69.51 | L101: 63.5 | M101: 79.9 | N101: 75.7
D102: 61.4 | E102: 9 | F102: =D102+E102 -> 70.4 | G102: 42.4 | H102: 34.5 | I102: 70 | K102: 69.51 | L102: 63.5 | M102: 79.9 | N102: 75.7
D103: 61.4 | E103: 9 | F103: =D103+E103 -> 70.4 | G103: 42.4 | H103: 34.5 | I103: 70 | K103: 69.51 | L103: 63.5 | M103: 79.9 | N103: 75.7
D104: 61.4 | E104: 9 | F104: =D104+E104 -> 70.4 | G104: 42.4 | H104: 34.5 | I104: 70 | K104: 69.51 | L104: 63.5 | M104: 79.9 | N104: 75.7

Sheet Hilfstabelle
B1: =Beiträge!B1 -> Continentale | C1: =Beiträge!C1 -> ARAG | D1: =Beiträge!D1 -> Barmenia | E1: =Beiträge!E1 -> Die Bayerische | F1: =Beiträge!F1 -> DFV | G1: =Beiträge!G1 -> DKV | H1: =Beiträge!H1 -> ENVIVAS | I1: =Beiträge!I1 -> Gothaer | ... U1: =Beiträge!U1 -> 0
B2: =Beiträge!B2 -> CEZE | C2: =Beiträge!C2 -> Dent 100 | D2: =Beiträge!D2 -> MehrZahn100 + Zahnvorsorge Bonus | E2: =Beiträge!E2 -> ZAHN Prestige Plus | F2: =Beiträge!F2 -> ZahnSchutz Exklusiv 100 | G2: =Beiträge!G2 -> KDTP100 + KDBE | H2: =Beiträge!H2 -> ZahnFlex.MAX | I2: =Beiträge!I2 -> MediZ Duo | ... U2: =Beiträge!U2 -> 0
A4: =IF(Beiträge!A5 >='Ansicht - Vergleich'!$D$12,1,0) -> 0 | B4: =$A4*Beiträge!B5 -> 0 | C4: =$A4*Beiträge!C5 -> 0 | D4: =$A4*Beiträge!D5 -> 0 | E4: =$A4*Beiträge!E5 -> 0 | F4: =$A4*Beiträge!F5 -> 0 | G4: =$A4*Beiträge!G5 -> 0 | H4: =$A4*Beiträge!H5 -> 0 | I4: =$A4*Beiträge!I5 -> 0 | ... U4: =$A4*Beiträge!U5 -> 0
A5: =IF(Beiträge!A6 >='Ansicht - Vergleich'!$D$12,1,0) -> 0 | B5: =$A5*Beiträge!B6 -> 0 | C5: =$A5*Beiträge!C6 -> 0 | D5: =$A5*Beiträge!D6 -> 0 | E5: =$A5*Beiträge!E6 -> 0 | F5: =$A5*Beiträge!F6 -> 0 | G5: =$A5*Beiträge!G6 -> 0 | H5: =$A5*Beiträge!H6 -> 0 | I5: =$A5*Beiträge!I6 -> 0 | ... U5: =$A5*Beiträge!U6 -> 0
A6: =IF(Beiträge!A7 >='Ansicht - Vergleich'!$D$12,1,0) -> 0 | B6: =$A6*Beiträge!B7 -> 0 | C6: =$A6*Beiträge!C7 -> 0 | D6: =$A6*Beiträge!D7 -> 0 | E6: =$A6*Beiträge!E7 -> 0 | F6: =$A6*Beiträge!F7 -> 0 | G6: =$A6*Beiträge!G7 -> 0 | H6: =$A6*Beiträge!H7 -> 0 | I6: =$A6*Beiträge!I7 -> 0 | ... U6: =$A6*Beiträge!U7 -> 0
A7: =IF(Beiträge!A8 >='Ansicht - Vergleich'!$D$12,1,0) -> 0 | B7: =$A7*Beiträge!B8 -> 0 | C7: =$A7*Beiträge!C8 -> 0 | D7: =$A7*Beiträge!D8 -> 0 | E7: =$A7*Beiträge!E8 -> 0 | F7: =$A7*Beiträge!F8 -> 0 | G7: =$A7*Beiträge!G8 -> 0 | H7: =$A7*Beiträge!H8 -> 0 | I7: =$A7*Beiträge!I8 -> 0 | ... U7: =$A7*Beiträge!U8 -> 0
A8: =IF(Beiträge!A9 >='Ansicht - Vergleich'!$D$12,1,0) -> 0 | B8: =$A8*Beiträge!B9 -> 0 | C8: =$A8*Beiträge!C9 -> 0 | D8: =$A8*Beiträge!D9 -> 0 | E8: =$A8*Beiträge!E9 -> 0 | F8: =$A8*Beiträge!F9 -> 0 | G8: =$A8*Beiträge!G9 -> 0 | H8: =$A8*Beiträge!H9 -> 0 | I8: =$A8*Beiträge!I9 -> 0 | ... U8: =$A8*Beiträge!U9 -> 0
A9: =IF(Beiträge!A10 >='Ansicht - Vergleich'!$D$12,1,0) -> 0 | B9: =$A9*Beiträge!B10 -> 0 | C9: =$A9*Beiträge!C10 -> 0 | D9: =$A9*Beiträge!D10 -> 0 | E9: =$A9*Beiträge!E10 -> 0 | F9: =$A9*Beiträge!F10 -> 0 | G9: =$A9*Beiträge!G10 -> 0 | H9: =$A9*Beiträge!H10 -> 0 | I9: =$A9*Beiträge!I10 -> 0 | ... U9: =$A9*Beiträge!U10 -> 0
A10: =IF(Beiträge!A11 >='Ansicht - Vergleich'!$D$12,1,0) -> 0 | B10: =$A10*Beiträge!B11 -> 0 | C10: =$A10*Beiträge!C11 -> 0 | D10: =$A10*Beiträge!D11 -> 0 | E10: =$A10*Beiträge!E11 -> 0 | F10: =$A10*Beiträge!F11 -> 0 | G10: =$A10*Beiträge!G11 -> 0 | H10: =$A10*Beiträge!H11 -> 0 | I10: =$A10*Beiträge!I11 -> 0 | ... U10: =$A10*Beiträge!U11 -> 0
A11: =IF(Beiträge!A12 >='Ansicht - Vergleich'!$D$12,1,0) -> 0 | B11: =$A11*Beiträge!B12 -> 0 | C11: =$A11*Beiträge!C12 -> 0 | D11: =$A11*Beiträge!D12 -> 0 | E11: =$A11*Beiträge!E12 -> 0 | F11: =$A11*Beiträge!F12 -> 0 | G11: =$A11*Beiträge!G12 -> 0 | H11: =$A11*Beiträge!H12 -> 0 | I11: =$A11*Beiträge!I12 -> 0 | ... U11: =$A11*Beiträge!U12 -> 0
A12: =IF(Beiträge!A13 >='Ansicht - Vergleich'!$D$12,1,0) -> 0 | B12: =$A12*Beiträge!B13 -> 0 | C12: =$A12*Beiträge!C13 -> 0 | D12: =$A12*Beiträge!D13 -> 0 | E12: =$A12*Beiträge!E13 -> 0 | F12: =$A12*Beiträge!F13 -> 0 | G12: =$A12*Beiträge!G13 -> 0 | H12: =$A12*Beiträge!H13 -> 0 | I12: =$A12*Beiträge!I13 -> 0 | ... U12: =$A12*Beiträge!U13 -> 0
A13: =IF(Beiträge!A14 >='Ansicht - Vergleich'!$D$12,1,0) -> 0 | B13: =$A13*Beiträge!B14 -> 0 | C13: =$A13*Beiträge!C14 -> 0 | D13: =$A13*Beiträge!D14 -> 0 | E13: =$A13*Beiträge!E14 -> 0 | F13: =$A13*Beiträge!F14 -> 0 | G13: =$A13*Beiträge!G14 -> 0 | H13: =$A13*Beiträge!H14 -> 0 | I13: =$A13*Beiträge!I14 -> 0 | ... U13: =$A13*Beiträge!U14 -> 0
A14: =IF(Beiträge!A15 >='Ansicht - Vergleich'!$D$12,1,0) -> 0 | B14: =$A14*Beiträge!B15 -> 0 | C14: =$A14*Beiträge!C15 -> 0 | D14: =$A14*Beiträge!D15 -> 0 | E14: =$A14*Beiträge!E15 -> 0 | F14: =$A14*Beiträge!F15 -> 0 | G14: =$A14*Beiträge!G15 -> 0 | H14: =$A14*Beiträge!H15 -> 0 | I14: =$A14*Beiträge!I15 -> 0 | ... U14: =$A14*Beiträge!U15 -> 0
A15: =IF(Beiträge!A16 >='Ansicht - Vergleich'!$D$12,1,0) -> 0 | B15: =$A15*Beiträge!B16 -> 0 | C15: =$A15*Beiträge!C16 -> 0 | D15: =$A15*Beiträge!D16 -> 0 | E15: =$A15*Beiträge!E16 -> 0 | F15: =$A15*Beiträge!F16 -> 0 | G15: =$A15*Beiträge!G16 -> 0 | H15: =$A15*Beiträge!H16 -> 0 | I15: =$A15*Beiträge!I16 -> 0 | ... U15: =$A15*Beiträge!U16 -> 0
... A75: =IF(Beiträge!A76 >='Ansicht - Vergleich'!$D$12,1,0) -> 1 | B75: =$A75*Beiträge!B76 -> 46.58 | C75: =$A75*Beiträge!C76 -> 84.76 | D75: =$A75*Beiträge!D76 -> 70.4 | E75: =$A75*Beiträge!E76 -> 76.7 | F75: =$A75*Beiträge!F76 -> 63.5 | G75: =$A75*Beiträge!G76 -> 73.76 | H75: =$A75*Beiträge!H76 -> 60.3 | I75: =$A75*Beiträge!I76 -> 70 | ... U75: =$A75*Beiträge!U76 -> 0
A76: =IF(Beiträge!A77 >='Ansicht - Vergleich'!$D$12,1,0) -> 1 | B76: =$A76*Beiträge!B77 -> 46.58 | C76: =$A76*Beiträge!C77 -> 84.76 | D76: =$A76*Beiträge!D77 -> 70.4 | E76: =$A76*Beiträge!E77 -> 76.7 | F76: =$A76*Beiträge!F77 -> 63.5 | G76: =$A76*Beiträge!G77 -> 73.76 | H76: =$A76*Beiträge!H77 -> 60.3 | I76: =$A76*Beiträge!I78 -> 70 | J76: =$A76*Beiträge!J77 -> 59.9 | K76: =$A76*Beiträge!K77 -> 69.51 | L76: =$A76*Beiträge!L77 -> 63.5 | M76: =$A76*Beiträge!M77 -> 79.9 | N76: =$A76*Beiträge!N77 -> 75.7 | O76: =$A76*Beiträge!O77 -> 0 | P76: =$A76*Beiträge!P77 -> 0 | Q76: =$A76*Beiträge!Q77 -> 0 | ... U76: =$A76*Beiträge!U77 -> 0
A77: =IF(Beiträge!A78 >='Ansicht - Vergleich'!$D$12,1,0) -> 1 | B77: =$A77*Beiträge!B78 -> 46.58 | C77: =$A77*Beiträge!C78 -> 84.76 | D77: =$A77*Beiträge!D78 -> 70.4 | E77: =$A77*Beiträge!E78 -> 76.7 | F77: =$A77*Beiträge!F78 -> 63.5 | G77: =$A77*Beiträge!G78 -> 73.76 | H77: =$A77*Beiträge!H78 -> 60.3 | I77: =$A77*Beiträge!I78 -> 70 | ... U77: =$A77*Beiträge!U78 -> 0
A78: =IF(Beiträge!A79 >='Ansicht - Vergleich'!$D$12,1,0) -> 1 | B78: =$A78*Beiträge!B79 -> 46.58 | C78: =$A78*Beiträge!C79 -> 84.76 | D78: =$A78*Beiträge!D79 -> 70.4 | E78: =$A78*Beiträge!E79 -> 76.7 | F78: =$A78*Beiträge!F79 -> 63.5 | G78: =$A78*Beiträge!G79 -> 73.76 | H78: =$A78*Beiträge!H79 -> 60.3 | I78: =$A78*Beiträge!I79 -> 70 | ... N78: =$A78*Beiträge!N79 -> 75.7
A79: =IF(Beiträge!A80 >='Ansicht - Vergleich'!$D$12,1,0) -> 1 | B79: =$A79*Beiträge!B80 -> 46.58 | C79: =$A79*Beiträge!C80 -> 84.76 | D79: =$A79*Beiträge!D80 -> 70.4 | E79: =$A79*Beiträge!E80 -> 76.7 | F79: =$A79*Beiträge!F80 -> 63.5 | G79: =$A79*Beiträge!G80 -> 73.76 | H79: =$A79*Beiträge!H80 -> 60.3 | I79: =$A79*Beiträge!I80 -> 70 | ... N79: =$A79*Beiträge!N80 -> 75.7
